BEGIN:VCALENDAR
VERSION:2.0
PRODID:-//Port Lincoln Chamber of Commerce and Tourism - ECPv6.13.2.1//NONSGML v1.0//EN
CALSCALE:GREGORIAN
METHOD:PUBLISH
X-WR-CALNAME:Port Lincoln Chamber of Commerce and Tourism
X-ORIGINAL-URL:https://portlincolnchamber.com.au
X-WR-CALDESC:Events for Port Lincoln Chamber of Commerce and Tourism
REFRESH-INTERVAL;VALUE=DURATION:PT1H
X-Robots-Tag:noindex
X-PUBLISHED-TTL:PT1H
BEGIN:VTIMEZONE
TZID:Australia/Adelaide
BEGIN:STANDARD
TZOFFSETFROM:+1030
TZOFFSETTO:+0930
TZNAME:ACST
DTSTART:20210403T163000
END:STANDARD
BEGIN:DAYLIGHT
TZOFFSETFROM:+0930
TZOFFSETTO:+1030
TZNAME:ACDT
DTSTART:20211002T163000
END:DAYLIGHT
END:VTIMEZONE
BEGIN:VEVENT
DTSTART;TZID=Australia/Adelaide:20210324T190000
DTEND;TZID=Australia/Adelaide:20210324T203000
DTSTAMP:20260424T154048
CREATED:20160606T093556Z
LAST-MODIFIED:20160606T093556Z
UID:2185-1616612400-1616617800@portlincolnchamber.com.au
SUMMARY:Port Lincoln Chamber of Commerce & Tourism General Meeting
DESCRIPTION:PLCC&T Committee meets every month to discuss the issues directly relating to the business community of Port Lincoln. Any interested business owners are welcome to join the committee at these meetings.
URL:https://portlincolnchamber.com.au/event/port-lincoln-chamber-of-commerce-tourism-general-meeting-2021-03-24/
LOCATION:Port Lincoln Hotel\, Port Lincoln\, 5606\, Australia
CATEGORIES:Meetings
ATTACH;FMTTYPE=:
END:VEVENT
END:VCALENDAR