BEGIN:VCALENDAR
VERSION:2.0
PRODID:-//Port Lincoln Chamber of Commerce and Tourism - ECPv6.13.2.1//NONSGML v1.0//EN
CALSCALE:GREGORIAN
METHOD:PUBLISH
X-ORIGINAL-URL:https://portlincolnchamber.com.au
X-WR-CALDESC:Events for Port Lincoln Chamber of Commerce and Tourism
REFRESH-INTERVAL;VALUE=DURATION:PT1H
X-Robots-Tag:noindex
X-PUBLISHED-TTL:PT1H
BEGIN:VTIMEZONE
TZID:Australia/Adelaide
BEGIN:STANDARD
TZOFFSETFROM:+1030
TZOFFSETTO:+0930
TZNAME:ACST
DTSTART:20240406T163000
END:STANDARD
BEGIN:DAYLIGHT
TZOFFSETFROM:+0930
TZOFFSETTO:+1030
TZNAME:ACDT
DTSTART:20241005T163000
END:DAYLIGHT
BEGIN:STANDARD
TZOFFSETFROM:+1030
TZOFFSETTO:+0930
TZNAME:ACST
DTSTART:20250405T163000
END:STANDARD
BEGIN:DAYLIGHT
TZOFFSETFROM:+0930
TZOFFSETTO:+1030
TZNAME:ACDT
DTSTART:20251004T163000
END:DAYLIGHT
BEGIN:STANDARD
TZOFFSETFROM:+1030
TZOFFSETTO:+0930
TZNAME:ACST
DTSTART:20260404T163000
END:STANDARD
BEGIN:DAYLIGHT
TZOFFSETFROM:+0930
TZOFFSETTO:+1030
TZNAME:ACDT
DTSTART:20261003T163000
END:DAYLIGHT
END:VTIMEZONE
BEGIN:VTIMEZONE
TZID:UTC
BEGIN:STANDARD
TZOFFSETFROM:+0000
TZOFFSETTO:+0000
TZNAME:UTC
DTSTART:20250101T000000
END:STANDARD
END:VTIMEZONE
BEGIN:VEVENT
DTSTART;TZID=Australia/Adelaide:20240228T190000
DTEND;TZID=Australia/Adelaide:20240228T203000
DTSTAMP:20260425T115136
CREATED:20160606T093556Z
LAST-MODIFIED:20160606T093556Z
UID:2492-1709146800-1709152200@portlincolnchamber.com.au
SUMMARY:Port Lincoln Chamber of Commerce & Tourism General Meeting
DESCRIPTION:PLCC&T Committee meets every month to discuss the issues directly relating to the business community of Port Lincoln. Any interested business owners are welcome to join the committee at these meetings.
URL:https://portlincolnchamber.com.au/event/port-lincoln-chamber-of-commerce-tourism-general-meeting-2024-02-28/
LOCATION:Port Lincoln Hotel\, Port Lincoln\, 5606\, Australia
CATEGORIES:Meetings
ATTACH;FMTTYPE=:
END:VEVENT
BEGIN:VEVENT
DTSTART;TZID=Australia/Adelaide:20240327T190000
DTEND;TZID=Australia/Adelaide:20240327T203000
DTSTAMP:20260425T115136
CREATED:20160606T093556Z
LAST-MODIFIED:20160606T093556Z
UID:3247-1711566000-1711571400@portlincolnchamber.com.au
SUMMARY:Port Lincoln Chamber of Commerce & Tourism General Meeting
DESCRIPTION:PLCC&T Committee meets every month to discuss the issues directly relating to the business community of Port Lincoln. Any interested business owners are welcome to join the committee at these meetings.
URL:https://portlincolnchamber.com.au/event/port-lincoln-chamber-of-commerce-tourism-general-meeting-2024-03-27/
LOCATION:Port Lincoln Hotel\, Port Lincoln\, 5606\, Australia
CATEGORIES:Meetings
ATTACH;FMTTYPE=:
END:VEVENT
BEGIN:VEVENT
DTSTART;TZID=Australia/Adelaide:20240424T190000
DTEND;TZID=Australia/Adelaide:20240424T203000
DTSTAMP:20260425T115136
CREATED:20160606T093556Z
LAST-MODIFIED:20160606T093556Z
UID:3248-1713985200-1713990600@portlincolnchamber.com.au
SUMMARY:Port Lincoln Chamber of Commerce & Tourism General Meeting
DESCRIPTION:PLCC&T Committee meets every month to discuss the issues directly relating to the business community of Port Lincoln. Any interested business owners are welcome to join the committee at these meetings.
URL:https://portlincolnchamber.com.au/event/port-lincoln-chamber-of-commerce-tourism-general-meeting-2024-04-24/
LOCATION:Port Lincoln Hotel\, Port Lincoln\, 5606\, Australia
CATEGORIES:Meetings
ATTACH;FMTTYPE=:
END:VEVENT
BEGIN:VEVENT
DTSTART;TZID=Australia/Adelaide:20240522T190000
DTEND;TZID=Australia/Adelaide:20240522T203000
DTSTAMP:20260425T115136
CREATED:20160606T093556Z
LAST-MODIFIED:20160606T093556Z
UID:3249-1716404400-1716409800@portlincolnchamber.com.au
SUMMARY:Port Lincoln Chamber of Commerce & Tourism General Meeting
DESCRIPTION:PLCC&T Committee meets every month to discuss the issues directly relating to the business community of Port Lincoln. Any interested business owners are welcome to join the committee at these meetings.
URL:https://portlincolnchamber.com.au/event/port-lincoln-chamber-of-commerce-tourism-general-meeting-2024-05-22/
LOCATION:Port Lincoln Hotel\, Port Lincoln\, 5606\, Australia
CATEGORIES:Meetings
ATTACH;FMTTYPE=:
END:VEVENT
BEGIN:VEVENT
DTSTART;TZID=Australia/Adelaide:20240626T190000
DTEND;TZID=Australia/Adelaide:20240626T203000
DTSTAMP:20260425T115136
CREATED:20160606T093556Z
LAST-MODIFIED:20160606T093556Z
UID:3250-1719428400-1719433800@portlincolnchamber.com.au
SUMMARY:Port Lincoln Chamber of Commerce & Tourism General Meeting
DESCRIPTION:PLCC&T Committee meets every month to discuss the issues directly relating to the business community of Port Lincoln. Any interested business owners are welcome to join the committee at these meetings.
URL:https://portlincolnchamber.com.au/event/port-lincoln-chamber-of-commerce-tourism-general-meeting-2024-06-26/
LOCATION:Port Lincoln Hotel\, Port Lincoln\, 5606\, Australia
CATEGORIES:Meetings
ATTACH;FMTTYPE=:
END:VEVENT
BEGIN:VEVENT
DTSTART;TZID=Australia/Adelaide:20240724T190000
DTEND;TZID=Australia/Adelaide:20240724T203000
DTSTAMP:20260425T115136
CREATED:20160606T093556Z
LAST-MODIFIED:20160606T093556Z
UID:3251-1721847600-1721853000@portlincolnchamber.com.au
SUMMARY:Port Lincoln Chamber of Commerce & Tourism General Meeting
DESCRIPTION:PLCC&T Committee meets every month to discuss the issues directly relating to the business community of Port Lincoln. Any interested business owners are welcome to join the committee at these meetings.
URL:https://portlincolnchamber.com.au/event/port-lincoln-chamber-of-commerce-tourism-general-meeting-2024-07-24/
LOCATION:Port Lincoln Hotel\, Port Lincoln\, 5606\, Australia
CATEGORIES:Meetings
ATTACH;FMTTYPE=:
END:VEVENT
BEGIN:VEVENT
DTSTART;TZID=Australia/Adelaide:20240828T190000
DTEND;TZID=Australia/Adelaide:20240828T203000
DTSTAMP:20260425T115136
CREATED:20160606T093556Z
LAST-MODIFIED:20160606T093556Z
UID:3263-1724871600-1724877000@portlincolnchamber.com.au
SUMMARY:Port Lincoln Chamber of Commerce & Tourism General Meeting
DESCRIPTION:PLCC&T Committee meets every month to discuss the issues directly relating to the business community of Port Lincoln. Any interested business owners are welcome to join the committee at these meetings.
URL:https://portlincolnchamber.com.au/event/port-lincoln-chamber-of-commerce-tourism-general-meeting-2024-08-28/
LOCATION:Port Lincoln Hotel\, Port Lincoln\, 5606\, Australia
CATEGORIES:Meetings
ATTACH;FMTTYPE=:
END:VEVENT
BEGIN:VEVENT
DTSTART;TZID=UTC:20250219T190000
DTEND;TZID=UTC:20250219T203000
DTSTAMP:20260425T115136
CREATED:20250214T052642Z
LAST-MODIFIED:20250214T052642Z
UID:3890-1739991600-1739997000@portlincolnchamber.com.au
SUMMARY:Monthly General Meeting
DESCRIPTION:The PLCC&T Committee meets every month to discuss important issues affecting the business community of Port Lincoln.\nWe invite all interested business owners to join us at these monthly meetings.\nPlease note: This month has had a date change to Wednesday February 19th.\n\nJoin us for our first meeting of 2025 and meet the new committee members!\nIt’s a great chance to meet the team\, ask questions\, and see what we’re all about!\nLet’s grow Port Lincoln together \n\nPlease arrive prior to 7pm in the Mortlock Room. We look forward to seeing you there!
URL:https://portlincolnchamber.com.au/event/monthly-general-meeting/
LOCATION:Port Lincoln Hotel
END:VEVENT
BEGIN:VEVENT
DTSTART;TZID=UTC:20250221T173000
DTEND;TZID=UTC:20250221T190000
DTSTAMP:20260425T115136
CREATED:20250213T070709Z
LAST-MODIFIED:20250213T070709Z
UID:3862-1740159000-1740164400@portlincolnchamber.com.au
SUMMARY:Networking Event
DESCRIPTION:Join us for a night of networking and collaboration at the Hotel Boston.\n\nConnect with fellow business owners and tourism professionals in a relaxed atmosphere.\nShare ideas\, make new contacts\, and explore potential partnerships.\nWhether you’re a seasoned pro or just starting out\, this event is perfect for expanding your network and fostering growth.\n\nDon’t miss this opportunity to mingle with like-minded individuals and boost your business!\nWith a complimentary drink on arrival and after work nibbles sponsored by Hotel Boston\, enjoy the relaxing vibes of Boston Bay and the company of other business owners.\n\n\n\nTickets must be booked.\nChamber Members: FREE // Non – Members: $20\n\n 
URL:https://portlincolnchamber.com.au/event/networking-event-2/
LOCATION:Hotel Boston\, 19-21 King Street Port Lincoln\, 5606\, Australia
CATEGORIES:Networking Event
ORGANIZER;CN="Port Lincoln Chamber of Commerce & Tourism":MAILTO:info@portlincolnchamber.com.au
END:VEVENT
BEGIN:VEVENT
DTSTART;TZID=UTC:20250313T083000
DTEND;TZID=UTC:20250313T123000
DTSTAMP:20260425T115136
CREATED:20250224T043300Z
LAST-MODIFIED:20250224T043300Z
UID:3939-1741854600-1741869000@portlincolnchamber.com.au
SUMMARY:Know Your Business - Essential & Strategies for Growth.
DESCRIPTION:Feedback from the Regional Voice Survey was clear—regional businesses face unique challenges that require tailored solutions. The South Australian Business Chamber is hosting a free\, half-day event designed to address these concerns and provide practical strategies to help businesses thrive.\nThe Port Lincoln Chamber of Commerce and Tourism is proud to support this initiative\, and we encourage you to attend this valuable session. This event will not only deliver essential business insights but also offer a great opportunity to connect with local business owners and industry leaders.\n\nWhat to Expect:~ Industrial Relations Update – Key Changes and What’s on the Horizon:This is a must attend session for anyone who employs staff. The Federal Government has introduced the greatest reforms to industrial relations laws in decades. Our Senior Consultant Lucinda Reu will explain how these changes have impacted employers\, share lessons learned and most importantly\, give you the means to help keep your business compliant.\n\n~ Strategies to Protect your Mental Health and Wellbeing: David Burroughs\, Chief Mental Health Officer at Westpac\,is a world-renowned workplace psychologist with over 20 years of experience in mental health and safety. David presents across the globe on workplace culture\, psychosocial risk management and psychological health. In this session\, he will share strategies for creating and implementing effective mental health initiatives in the workplace.\n\n~ Overcoming Skills and Labour Shortages: Finding and retaining staff is impacting businesses right across our regional centres. Sonya Paterson of Department of State Development will share how accessing global talent can fill gaps in your workforce\, strengthen your business\, and drive growth. Learn the benefits of hiring skilled migrants\, the common challenges\, and strategies for integrating this talent into your organisation.\n\n~ Strategies to Grow and Adapt Your Business: A plan is not a strategy! Jim Pinkney\, from Bluejam will explain the difference between strategy and planning to position your business for future success. Bluejam leverages over 46 years of Hood Sweeney’s expertise to offer advisory services aimed at accelerating growth.\n\n** This is your chance to network\, gain insights that you can put into action\, and walk away with new ideas to strengthen your operations.\n\nBOOKINGS ESSENTIAL – RSVP by Monday 10 March \nDon’t miss this opportunity to gain valuable knowledge and strategies to drive your Business forward. Reserve your place today! \nTea\, coffee and morning tea included. \n\n** Sponsored by Regional Development Australia Eyre Peninsula.
URL:https://portlincolnchamber.com.au/event/know-your-business-essential-strategies-for-growth/
LOCATION:Port Lincoln Hotel
END:VEVENT
BEGIN:VEVENT
DTSTART;TZID=UTC:20250521T173000
DTEND;TZID=UTC:20250521T193000
DTSTAMP:20260425T115136
CREATED:20250506T210826Z
LAST-MODIFIED:20250506T210826Z
UID:4046-1747848600-1747855800@portlincolnchamber.com.au
SUMMARY:Workplace Safety & Training Essentials: An Evening with Port Lincoln Training.
DESCRIPTION:Join us for an informative session hosted by Kylie Malota\, Director of Port Lincoln Training\, as she shares valuable insights into Workplace Health & Safety\, compliance requirements\, first aid\, and essential training opportunities for businesses and their teams.\nThis session is ideal for business owners\, managers\, and staff who want to stay up to date with workplace obligations and explore how local training options can support business success and employee development.\n\n Location: Port Lincoln Training\, 2–4 Verran Terrace Date: Wednesday 21st May Time: 5:30pm – 7:00pm\n\nLight refreshments will be provided.RSVP essential – spaces are limited.
URL:https://portlincolnchamber.com.au/event/workplace-safety-training-essentials-an-evening-with-port-lincoln-training/
LOCATION:Port Lincoln Training\, 2-4 Verran Terrace\, Port Lincoln\, South Australia\, 5606\, Australia
END:VEVENT
BEGIN:VEVENT
DTSTART;TZID=UTC:20250529T045000
DTEND;TZID=UTC:20250529T045000
DTSTAMP:20260425T115136
CREATED:20250529T030039Z
LAST-MODIFIED:20250529T045344Z
UID:4064-1748494200-1748494200@portlincolnchamber.com.au
SUMMARY:June Event - Details Coming Soon!
DESCRIPTION: 
URL:https://portlincolnchamber.com.au/event/june-event-details-coming-soon/
END:VEVENT
BEGIN:VEVENT
DTSTART;TZID=UTC:20250627T170000
DTEND;TZID=UTC:20250627T190000
DTSTAMP:20260425T115136
CREATED:20250623T022216Z
LAST-MODIFIED:20250623T022439Z
UID:4296-1751043600-1751050800@portlincolnchamber.com.au
SUMMARY:Chamber Business Members EOFY Social Hour!
DESCRIPTION:Join us as we raise a glass to the year that’s been!\n\n Date: This Friday\, June 27th Time: 5:00 PM – 7PM Location: Bayside\, Port Lincoln Hotel\nEnjoy a welcome drink and shared nibbles with fellow members.\nPop in for 10 minutes or stay for the full hour\, we’d love to see you and celebrate together.\nLet’s wrap up the financial year with connection and good company!\n\n\n** Please RSVP info@portlincolnchamber.com.au with numbers.
URL:https://portlincolnchamber.com.au/event/chamber-business-members-eofy-social-hour/
LOCATION:Port Lincoln Hotel
END:VEVENT
BEGIN:VEVENT
DTSTART;TZID=UTC:20250721T130000
DTEND;TZID=UTC:20250721T160000
DTSTAMP:20260425T115136
CREATED:20250704T201107Z
LAST-MODIFIED:20250704T201107Z
UID:4325-1753102800-1753113600@portlincolnchamber.com.au
SUMMARY:Elevate Your Team & Map Your Year with Gary Jeffery
DESCRIPTION:This workshop is designed to equip business leaders with practical tools and forward-focused strategies to elevate both team performance and business outcomes.\n\nPart 1: Coaching for Performance\nIn the first session\, we’ll explore how to effectively coach your team. Attendees will gain actionable techniques and frameworks to strengthen leadership skills and drive performance through clear communication\, accountability\, and support.\n\nPart 2: Strategic Planning & Goal Setting\nThe second session shifts focus to future planning. Participants will map out key goals for the year ahead and set focused\, achievable priorities for the upcoming quarter to align daily actions with big-picture objectives.\n\nExclusive Takeaway\nTo close the workshop\, each attendee will be invited to choose one of three complimentary value-add options—each tailored to offer ongoing support and strategic insight for their business.\nTea/coffee & afternoon tea supplied.\n 
URL:https://portlincolnchamber.com.au/event/elevate-your-team-map-your-year-with-gary-jeffery/
LOCATION:Port Lincoln Hotel
END:VEVENT
BEGIN:VEVENT
DTSTART;TZID=UTC:20250723T190000
DTEND;TZID=UTC:20250723T200000
DTSTAMP:20260425T115136
CREATED:20250627T052541Z
LAST-MODIFIED:20250627T052541Z
UID:4309-1753297200-1753300800@portlincolnchamber.com.au
SUMMARY:Monthly General Meeting
DESCRIPTION:The PLCC&T Committee meets every month to discuss important issues affecting the business community of Port Lincoln. We invite all interested business owners to join us at these monthly meetings.Please contact us if you are keen to attend one of our meetings by emailing info@portlincolnchamber.com.au\n** Also please arrive prior to 7pm in the Mortlock Room.
URL:https://portlincolnchamber.com.au/event/monthly-general-meeting-2/
END:VEVENT
BEGIN:VEVENT
DTSTART;TZID=UTC:20250819T180000
DTEND;TZID=UTC:20250819T203000
DTSTAMP:20260425T115136
CREATED:20250804T072224Z
LAST-MODIFIED:20250804T072224Z
UID:4427-1755626400-1755635400@portlincolnchamber.com.au
SUMMARY:PLCC&T and Lincoln Cinema Escape Cub Experience
DESCRIPTION:Join the Port Lincoln Chamber of Commerce and Tourism in conjunction with Lincoln Cinema for our August Networking event.\nWHAT’S INCLUDED:Doors open from 5:30pm\, Escape Cube games start at 6pm\n Welcome drink on arrival (additional drinks available for purchase from the bar) Delicious nibbles throughout the evening – proudly sponsored by Lincoln Cinema A thrilling taste of the Escape Cube experience – teams will be formed on the night Behind-the-scenes talk with Ange – discover the story behind Lincoln Cinema\, what’s coming next\, and how the Escape Cube can be used for birthdays\, bookings\, and team-building!\n\nABOUT THE ESCAPE CUBE:Step into adventure with this Jumanji-inspired challenge! Up to 5 players per team 60 minutes to escape (for this event teams will challenge each other in 20 minute mini games) Puzzle-solving\, teamwork\, and fast-paced fun!\nPerfect for families\, friends\, workplace socials\, or school holiday excitement.\n\nABOUT OUR NETWORKING EVENTS:\nThe Port Lincoln Chamber of Commerce and Tourism (PLCCT) networking events are designed to bring local business owners\, entrepreneurs\, and professionals together in a relaxed and engaging environment. These events offer the perfect opportunity to build connections\, share ideas\, and stay informed about local initiatives and business opportunities.\nBy attending\, business owners can: Expand their local network and form valuable collaborations Gain insights from guest speakers and industry experts Promote their business within the local community Stay up-to-date on Chamber activities and regional developments\nWhether you’re a long-time business owner or just starting out\, these events are a fantastic way to stay connected and grow your business in the Port Lincoln region. Come along and support our amazing local businesses showcasing what they do best.
URL:https://portlincolnchamber.com.au/event/plcct-and-lincoln-cinema-escape-cub-experience/
LOCATION:Lincoln Cinema\, 3 Hallet Place\, Port Lincoln\, 5606
END:VEVENT
BEGIN:VEVENT
DTSTART;TZID=UTC:20250827T190000
DTEND;TZID=UTC:20250827T200000
DTSTAMP:20260425T115136
CREATED:20250627T052820Z
LAST-MODIFIED:20250827T044814Z
UID:4313-1756321200-1756324800@portlincolnchamber.com.au
SUMMARY:Monthly General Meeting
DESCRIPTION:UPDATE! THIS MONTH’S MEETING HAS BEEN POSTPONED!
URL:https://portlincolnchamber.com.au/event/monthly-general-meeting-3/
LOCATION:Port Lincoln Hotel
END:VEVENT
BEGIN:VEVENT
DTSTART;TZID=UTC:20250916T090000
DTEND;TZID=UTC:20250916T110000
DTSTAMP:20260425T115136
CREATED:20250805T020108Z
LAST-MODIFIED:20250805T020241Z
UID:4434-1758013200-1758020400@portlincolnchamber.com.au
SUMMARY:Tourism Listing Made Easy
DESCRIPTION:This FREE workshop is presented by the South Australian Tourism Commission (SATC) & the Australian Tourism Data Warehouse (ATDW) to help small businesses tap into a platform where visitors\, media and other tourism organisations will be able to find you.\nGet listed on southaustralia.com and australia.com and start building your exposure immediately.\n\nATDW is a resource under-utilised by tourism and local businesses and has untapped potential for your small businesses.\n\nLearn about the behind-the-scenes benefits of a listing\, how it serves as a catalogue for SATC and Tourism Australia (TA) to find your business in the region to include it in their campaigns and the media and promotion opportunities often unseen.\n\nOutcomes of the 2-hour session:\nYour business\, attraction or tour listing live on the ATDW platform reaching SATC’s and TA’s customers.An understanding of media and promotion opportunities linked to your listing.\nHands-on support to help you set up your profile and listing – from image selection\, resizing to effective copywriting.Who is this workshop for:\nBusiness that don’t already have a listing on the Australian Tourism Data Warehouse platform.\nBusinesses that may already have a listing but it needs updating (very important to keep the listing current and relevant)\nThis event is not restricted to tourism businesses\, any operator can have a listing.\nTea\, coffee and morning tea provided.\nGet your FREE tickets here : https://www.eventbrite.com.au/e/tourism-listings-made-easy-tickets-1534184289509\n\nLearn more about the ATDW here: https://www.atdw.com.au
URL:https://portlincolnchamber.com.au/event/tourism-listing-made-easy/
LOCATION:Port Lincoln Hotel\, 1 Lincoln Hwy\, Port Lincoln\, SA\, 5606\, Australia
END:VEVENT
BEGIN:VEVENT
DTSTART;TZID=UTC:20250924T130000
DTEND;TZID=UTC:20250924T160000
DTSTAMP:20260425T115136
CREATED:20250827T044433Z
LAST-MODIFIED:20250827T044433Z
UID:4446-1758718800-1758729600@portlincolnchamber.com.au
SUMMARY:Respect the Line Workshop: Preventing and Addressing Workplace Sexual Harassment
DESCRIPTION:About this event:\n\n\n\n\n\nWorkplaces should be safe places for everyone – free of sexual harassment. Change is needed in all industries\, and in every workplace. With the right knowledge and tools\, businesses can play a leading role in preventing workplace sexual harassment\, discrimination and bullying. \n  \nThe Port Lincoln Chamber is partnering with the Working Women’s Centre SA to deliver a workshop on preventing and tackling sexual harassment. Respect the Line is a workshop designed to help local businesses understand their legal and ethical obligations\, and build skills to create safe and inclusive workplaces. \n  \nWhat the workshop will cover: \n\nDefining workplace sexual harassment and its impacts\, with clear examples\nUnderstanding legal obligations\, including the Positive Duty to prevent harassment\nUnderstanding the structural and cultural causes of sexual harassment\nPractical strategies for bystanders\nWhat to do if you experience harassment or receive a disclosure \n  \n*Afternoon tea will be provided – limited to 25 spots availability!
URL:https://portlincolnchamber.com.au/event/respect-the-line-workshop-preventing-and-addressing-workplace-sexual-harassment/
LOCATION:Port Lincoln Hotel
END:VEVENT
BEGIN:VEVENT
DTSTART;TZID=UTC:20250924T190000
DTEND;TZID=UTC:20250924T200000
DTSTAMP:20260425T115136
CREATED:20250627T052953Z
LAST-MODIFIED:20250627T052953Z
UID:4315-1758740400-1758744000@portlincolnchamber.com.au
SUMMARY:Monthly General Meeting
DESCRIPTION:The PLCC&T Committee meets every month to discuss important issues affecting the business community of Port Lincoln. We invite all interested business owners to join us at these monthly meetings.Please contact us if you are keen to attend one of our meetings by emailing info@portlincolnchamber.com.au\n** Also please arrive prior to 7pm in the Mortlock Room.
URL:https://portlincolnchamber.com.au/event/monthly-general-meeting-4/
LOCATION:Port Lincoln Hotel\, 1 Lincoln Hwy\, Port Lincoln\, SA\, 5606\, Australia
END:VEVENT
BEGIN:VEVENT
DTSTART;TZID=UTC:20251018T173000
DTEND;TZID=UTC:20251018T230000
DTSTAMP:20260425T115136
CREATED:20250916T015833Z
LAST-MODIFIED:20250916T015916Z
UID:4465-1760808600-1760828400@portlincolnchamber.com.au
SUMMARY:Port Lincoln Shines Cocktail Event.
DESCRIPTION:Port Lincoln Shines Cocktail Event.\nJoin us for an unforgettable evening at the Port Lincoln Shines Cocktail Event\, hosted by the Port Lincoln Chamber of Commerce and Tourism in partnership with Bendigo Community Bank Port Lincoln! \nCome and connect with our vibrant community as we celebrate local business legends and hear their inspiring stories. Don’t miss the chance to meet our special guest\, Olympic champion Kyle Chalmers\, who will share his journey and insights. \nThis is a unique opportunity to mingle\, be inspired\, and support our local talent. Doors open at 5:30pm for a 6pm start. \nGrab your ticket now and be part of this exceptional night! \nPort Lincoln Chamber of Commerce and Tourism Members Tickets $85 +B/F \nNon Members Tickets $95+B/F
URL:https://portlincolnchamber.com.au/event/4465/
LOCATION:Port Lincoln Racing Club\, 5-41 Proper Bay Rd\, Port Lincoln\, Australia
END:VEVENT
BEGIN:VEVENT
DTSTART;TZID=UTC:20251022T190000
DTEND;TZID=UTC:20251022T200000
DTSTAMP:20260425T115136
CREATED:20250627T053133Z
LAST-MODIFIED:20250627T053133Z
UID:4317-1761159600-1761163200@portlincolnchamber.com.au
SUMMARY:Monthly General Meeting
DESCRIPTION:The PLCC&T Committee meets every month to discuss important issues affecting the business community of Port Lincoln. We invite all interested business owners to join us at these monthly meetings.Please contact us if you are keen to attend one of our meetings by emailing info@portlincolnchamber.com.au\n** Also please arrive prior to 7pm in the Mortlock Room.
URL:https://portlincolnchamber.com.au/event/monthly-general-meeting-5/
LOCATION:Port Lincoln Hotel
END:VEVENT
BEGIN:VEVENT
DTSTART;TZID=UTC:20251121T170000
DTEND;TZID=UTC:20251121T200000
DTSTAMP:20260425T115136
CREATED:20250915T065332Z
LAST-MODIFIED:20250916T015215Z
UID:4460-1763744400-1763755200@portlincolnchamber.com.au
SUMMARY:AGM
DESCRIPTION:  \nYou are invited to attend our Annual General Meeting (AGM). This is an important opportunity to review the past year’s activities\, financials\, and plans for the year ahead\, as well as to participate in the election of key positions. \nNominations:Members are encouraged to submit nominations for the above positions prior to the AGM. Nominations close on November 20th. Please submit to info@portlincolnchamber.com.au \nStay tuned for more details. \n  \n  \n 
URL:https://portlincolnchamber.com.au/event/agm/
END:VEVENT
BEGIN:VEVENT
DTSTART;TZID=UTC:20251129T150000
DTEND;TZID=UTC:20251129T160000
DTSTAMP:20260425T115136
CREATED:20250916T020644Z
LAST-MODIFIED:20251124T064438Z
UID:4470-1764428400-1764432000@portlincolnchamber.com.au
SUMMARY:Beyond Bank Port Lincoln Christmas Pageant 2025
DESCRIPTION:Beyond Bank Port Lincoln Christmas Pageant \n Saturday 29th November\, 3pm\n  \n\n\nGet ready to light up the festive season along Tasman Terrace!\nThe Port Lincoln Chamber of Commerce & Tourism invites businesses\, community groups\, and individuals to enter a float in the 2025 Christmas Pageant.\n\n\nPrizes for:\n\n\nBest Decorated Business Float\n\n\nBest Decorated Community Float\n\n\nQuirkiest Float\n\n\nBest Decorated Individual\n\n\n\nThis is your chance to promote your business\, celebrate your community\, and share some festive joy!\nTo find out more email: info@portlincolnchamber.com.au or contact Valerie Staunton PH: 0427 833 914
URL:https://portlincolnchamber.com.au/event/port-lincoln-christmas-pageant/
END:VEVENT
BEGIN:VEVENT
DTSTART;TZID=Australia/Adelaide:20260410T173000
DTEND;TZID=Australia/Adelaide:20260410T190000
DTSTAMP:20260425T115136
CREATED:20260408T103721Z
LAST-MODIFIED:20260408T125224Z
UID:4553-1775842200-1775847600@portlincolnchamber.com.au
SUMMARY:AI\, digital marketing\, and automation strategies event
DESCRIPTION:We’re excited to kick off our 2026 events calendar with a high-impact professional development opportunity for our business community! \nIn partnership with Results & Co\, we’re hosting a hands-on workshop focused on practical strategies in AI\, digital marketing\, and automation—designed to help businesses like yours thrive in today’s rapidly evolving digital landscape. \nThis session is all about real\, actionable insights you can start using immediately to streamline your operations\, elevate your marketing\, and get technology working smarter for you. \nEvent Details:\n📅 Friday\, 10 April\n⏰ 5:30pm – 7:00pm\n📍 Port Lincoln Hotel Ballroom \nCost:\n✔ Free for Chamber Members (use code sent in private email)\n✔ $10 for Non-Members \nLight refreshments will be provided\, and drinks will be available for purchase at the bar. \nDon’t miss this opportunity to gain practical tools\, fresh ideas\, and a competitive edge for 2026. \nPlease RSVP to secure your place:\nhttps://www.eventbrite.com.au/e/1986174827375?aff=oddtdtcreator \nThank you to the team at Results & Co for their support. \nWe look forward to seeing you there. \nWarm regards\,\nPort Lincoln Chamber of Commerce & Tourism
URL:https://portlincolnchamber.com.au/event/ai-digital-marketing-and-automation-strategies-event/
LOCATION:Port Lincoln Hotel
CATEGORIES:Workshop event
END:VEVENT
END:VCALENDAR