BEGIN:VCALENDAR
VERSION:2.0
PRODID:-//Port Lincoln Chamber of Commerce and Tourism - ECPv6.13.2.1//NONSGML v1.0//EN
CALSCALE:GREGORIAN
METHOD:PUBLISH
X-WR-CALNAME:Port Lincoln Chamber of Commerce and Tourism
X-ORIGINAL-URL:https://portlincolnchamber.com.au
X-WR-CALDESC:Events for Port Lincoln Chamber of Commerce and Tourism
REFRESH-INTERVAL;VALUE=DURATION:PT1H
X-Robots-Tag:noindex
X-PUBLISHED-TTL:PT1H
BEGIN:VTIMEZONE
TZID:Australia/Adelaide
BEGIN:STANDARD
TZOFFSETFROM:+1030
TZOFFSETTO:+0930
TZNAME:ACST
DTSTART:20210403T163000
END:STANDARD
BEGIN:DAYLIGHT
TZOFFSETFROM:+0930
TZOFFSETTO:+1030
TZNAME:ACDT
DTSTART:20211002T163000
END:DAYLIGHT
BEGIN:STANDARD
TZOFFSETFROM:+1030
TZOFFSETTO:+0930
TZNAME:ACST
DTSTART:20220402T163000
END:STANDARD
BEGIN:DAYLIGHT
TZOFFSETFROM:+0930
TZOFFSETTO:+1030
TZNAME:ACDT
DTSTART:20221001T163000
END:DAYLIGHT
BEGIN:STANDARD
TZOFFSETFROM:+1030
TZOFFSETTO:+0930
TZNAME:ACST
DTSTART:20230401T163000
END:STANDARD
BEGIN:DAYLIGHT
TZOFFSETFROM:+0930
TZOFFSETTO:+1030
TZNAME:ACDT
DTSTART:20230930T163000
END:DAYLIGHT
END:VTIMEZONE
BEGIN:VEVENT
DTSTART;TZID=Australia/Adelaide:20230628T170000
DTEND;TZID=Australia/Adelaide:20230628T190000
DTSTAMP:20260425T122342
CREATED:20230613T215830Z
LAST-MODIFIED:20230613T215830Z
UID:3613-1687971600-1687978800@portlincolnchamber.com.au
SUMMARY:Networking Event with Dinko Tuna
DESCRIPTION:Are you a local business person? Wanting to network with like minded people?\n\n\n\nThen please join the Port Lincoln Chamber of Commerce and Dinko Tuna in a great networking event at Dinko Seafoods 112-120 Proper Bay Road\, on the 28th June at 5pm for 5:30pm.\n\nFeted by Lukina Lukin\, hear how she has taken the reins of the business to new heights\, while being a recognised sustainable seafood business.\n\nEnjoy the tasting of her tuna\, a glass of wine\, nibbles\, while making valuable connections. Members of the Chamber of Commerce is free……. you can join here:\n\nhttps://portlincolnchamber.com.au/membership/\nor non-members are $21.60 (includes booking fee)\n\n\nhttps://tickets.adelaidetickets.com.au/outlet/event/d66026e2-6e4d-4d44-81bd-62532b3813f2?fbclid=IwAR0C5GA0lEg-wCwaomu1cjysQYw_5-71kYbiU-OxypPkHAFkx0M24qYmaZY\n*PLEASE NOTE TICKETS ARE LIMITED…so first in\, first served!
URL:https://portlincolnchamber.com.au/event/networking-event-with-dinko-tuna/
LOCATION:Dinko Seafoods\, 112-120 Proper Bay Road\, Port Lincoln\, SA\, 5606\, Australia
END:VEVENT
BEGIN:VEVENT
DTSTART;TZID=Australia/Adelaide:20230524T190000
DTEND;TZID=Australia/Adelaide:20230524T203000
DTSTAMP:20260425T122342
CREATED:20160606T093556Z
LAST-MODIFIED:20160606T093556Z
UID:2394-1684954800-1684960200@portlincolnchamber.com.au
SUMMARY:Port Lincoln Chamber of Commerce & Tourism General Meeting
DESCRIPTION:PLCC&T Committee meets every month to discuss the issues directly relating to the business community of Port Lincoln. Any interested business owners are welcome to join the committee at these meetings.
URL:https://portlincolnchamber.com.au/event/port-lincoln-chamber-of-commerce-tourism-general-meeting-2023-05-24/
LOCATION:Port Lincoln Hotel\, Port Lincoln\, 5606\, Australia
CATEGORIES:Meetings
ATTACH;FMTTYPE=:
END:VEVENT
BEGIN:VEVENT
DTSTART;TZID=Australia/Adelaide:20230426T190000
DTEND;TZID=Australia/Adelaide:20230426T203000
DTSTAMP:20260425T122342
CREATED:20160606T093556Z
LAST-MODIFIED:20160606T093556Z
UID:2393-1682535600-1682541000@portlincolnchamber.com.au
SUMMARY:Port Lincoln Chamber of Commerce & Tourism General Meeting
DESCRIPTION:PLCC&T Committee meets every month to discuss the issues directly relating to the business community of Port Lincoln. Any interested business owners are welcome to join the committee at these meetings.
URL:https://portlincolnchamber.com.au/event/port-lincoln-chamber-of-commerce-tourism-general-meeting-2023-04-26/
LOCATION:Port Lincoln Hotel\, Port Lincoln\, 5606\, Australia
CATEGORIES:Meetings
ATTACH;FMTTYPE=:
END:VEVENT
BEGIN:VEVENT
DTSTART;TZID=Australia/Adelaide:20230322T190000
DTEND;TZID=Australia/Adelaide:20230322T203000
DTSTAMP:20260425T122342
CREATED:20160606T093556Z
LAST-MODIFIED:20160606T093556Z
UID:2390-1679511600-1679517000@portlincolnchamber.com.au
SUMMARY:Port Lincoln Chamber of Commerce & Tourism General Meeting
DESCRIPTION:PLCC&T Committee meets every month to discuss the issues directly relating to the business community of Port Lincoln. Any interested business owners are welcome to join the committee at these meetings.
URL:https://portlincolnchamber.com.au/event/port-lincoln-chamber-of-commerce-tourism-general-meeting-2023-03-22/
LOCATION:Port Lincoln Hotel\, Port Lincoln\, 5606\, Australia
CATEGORIES:Meetings
ATTACH;FMTTYPE=:
END:VEVENT
BEGIN:VEVENT
DTSTART;TZID=Australia/Adelaide:20230222T190000
DTEND;TZID=Australia/Adelaide:20230222T203000
DTSTAMP:20260425T122342
CREATED:20160606T093556Z
LAST-MODIFIED:20160606T093556Z
UID:2383-1677092400-1677097800@portlincolnchamber.com.au
SUMMARY:Port Lincoln Chamber of Commerce & Tourism General Meeting
DESCRIPTION:PLCC&T Committee meets every month to discuss the issues directly relating to the business community of Port Lincoln. Any interested business owners are welcome to join the committee at these meetings.
URL:https://portlincolnchamber.com.au/event/port-lincoln-chamber-of-commerce-tourism-general-meeting-2023-02-22/
LOCATION:Port Lincoln Hotel\, Port Lincoln\, 5606\, Australia
CATEGORIES:Meetings
ATTACH;FMTTYPE=:
END:VEVENT
BEGIN:VEVENT
DTSTART;TZID=Australia/Adelaide:20230125T190000
DTEND;TZID=Australia/Adelaide:20230125T203000
DTSTAMP:20260425T122342
CREATED:20160606T093556Z
LAST-MODIFIED:20160606T093556Z
UID:2380-1674673200-1674678600@portlincolnchamber.com.au
SUMMARY:Port Lincoln Chamber of Commerce & Tourism General Meeting
DESCRIPTION:PLCC&T Committee meets every month to discuss the issues directly relating to the business community of Port Lincoln. Any interested business owners are welcome to join the committee at these meetings.
URL:https://portlincolnchamber.com.au/event/port-lincoln-chamber-of-commerce-tourism-general-meeting-2023-01-25/
LOCATION:Port Lincoln Hotel\, Port Lincoln\, 5606\, Australia
CATEGORIES:Meetings
ATTACH;FMTTYPE=:
END:VEVENT
BEGIN:VEVENT
DTSTART;TZID=Australia/Adelaide:20221228T190000
DTEND;TZID=Australia/Adelaide:20221228T203000
DTSTAMP:20260425T122342
CREATED:20160606T093556Z
LAST-MODIFIED:20160606T093556Z
UID:2376-1672254000-1672259400@portlincolnchamber.com.au
SUMMARY:Port Lincoln Chamber of Commerce & Tourism General Meeting
DESCRIPTION:PLCC&T Committee meets every month to discuss the issues directly relating to the business community of Port Lincoln. Any interested business owners are welcome to join the committee at these meetings.
URL:https://portlincolnchamber.com.au/event/port-lincoln-chamber-of-commerce-tourism-general-meeting-2022-12-28/
LOCATION:Port Lincoln Hotel\, Port Lincoln\, 5606\, Australia
CATEGORIES:Meetings
ATTACH;FMTTYPE=:
END:VEVENT
BEGIN:VEVENT
DTSTART;TZID=Australia/Adelaide:20221123T190000
DTEND;TZID=Australia/Adelaide:20221123T203000
DTSTAMP:20260425T122342
CREATED:20160606T093556Z
LAST-MODIFIED:20160606T093556Z
UID:2356-1669230000-1669235400@portlincolnchamber.com.au
SUMMARY:Port Lincoln Chamber of Commerce & Tourism General Meeting
DESCRIPTION:PLCC&T Committee meets every month to discuss the issues directly relating to the business community of Port Lincoln. Any interested business owners are welcome to join the committee at these meetings.
URL:https://portlincolnchamber.com.au/event/port-lincoln-chamber-of-commerce-tourism-general-meeting-2022-11-23/
LOCATION:Port Lincoln Hotel\, Port Lincoln\, 5606\, Australia
CATEGORIES:Meetings
ATTACH;FMTTYPE=:
END:VEVENT
BEGIN:VEVENT
DTSTART;TZID=Australia/Adelaide:20221026T190000
DTEND;TZID=Australia/Adelaide:20221026T203000
DTSTAMP:20260425T122342
CREATED:20160606T093556Z
LAST-MODIFIED:20160606T093556Z
UID:2348-1666810800-1666816200@portlincolnchamber.com.au
SUMMARY:Port Lincoln Chamber of Commerce & Tourism General Meeting
DESCRIPTION:PLCC&T Committee meets every month to discuss the issues directly relating to the business community of Port Lincoln. Any interested business owners are welcome to join the committee at these meetings.
URL:https://portlincolnchamber.com.au/event/port-lincoln-chamber-of-commerce-tourism-general-meeting-2022-10-26/
LOCATION:Port Lincoln Hotel\, Port Lincoln\, 5606\, Australia
CATEGORIES:Meetings
ATTACH;FMTTYPE=:
END:VEVENT
BEGIN:VEVENT
DTSTART;TZID=Australia/Adelaide:20220928T190000
DTEND;TZID=Australia/Adelaide:20220928T203000
DTSTAMP:20260425T122342
CREATED:20160606T093556Z
LAST-MODIFIED:20160606T093556Z
UID:2341-1664391600-1664397000@portlincolnchamber.com.au
SUMMARY:Port Lincoln Chamber of Commerce & Tourism General Meeting
DESCRIPTION:PLCC&T Committee meets every month to discuss the issues directly relating to the business community of Port Lincoln. Any interested business owners are welcome to join the committee at these meetings.
URL:https://portlincolnchamber.com.au/event/port-lincoln-chamber-of-commerce-tourism-general-meeting-2022-09-28/
LOCATION:Port Lincoln Hotel\, Port Lincoln\, 5606\, Australia
CATEGORIES:Meetings
ATTACH;FMTTYPE=:
END:VEVENT
BEGIN:VEVENT
DTSTART;TZID=Australia/Adelaide:20220824T190000
DTEND;TZID=Australia/Adelaide:20220824T203000
DTSTAMP:20260425T122342
CREATED:20160606T093556Z
LAST-MODIFIED:20160606T093556Z
UID:2333-1661367600-1661373000@portlincolnchamber.com.au
SUMMARY:Port Lincoln Chamber of Commerce & Tourism General Meeting
DESCRIPTION:PLCC&T Committee meets every month to discuss the issues directly relating to the business community of Port Lincoln. Any interested business owners are welcome to join the committee at these meetings.
URL:https://portlincolnchamber.com.au/event/port-lincoln-chamber-of-commerce-tourism-general-meeting-2022-08-24/
LOCATION:Port Lincoln Hotel\, Port Lincoln\, 5606\, Australia
CATEGORIES:Meetings
ATTACH;FMTTYPE=:
END:VEVENT
BEGIN:VEVENT
DTSTART;TZID=Australia/Adelaide:20220727T190000
DTEND;TZID=Australia/Adelaide:20220727T203000
DTSTAMP:20260425T122342
CREATED:20160606T093556Z
LAST-MODIFIED:20160606T093556Z
UID:2325-1658948400-1658953800@portlincolnchamber.com.au
SUMMARY:Port Lincoln Chamber of Commerce & Tourism General Meeting
DESCRIPTION:PLCC&T Committee meets every month to discuss the issues directly relating to the business community of Port Lincoln. Any interested business owners are welcome to join the committee at these meetings.
URL:https://portlincolnchamber.com.au/event/port-lincoln-chamber-of-commerce-tourism-general-meeting-2022-07-27/
LOCATION:Port Lincoln Hotel\, Port Lincoln\, 5606\, Australia
CATEGORIES:Meetings
ATTACH;FMTTYPE=:
END:VEVENT
BEGIN:VEVENT
DTSTART;TZID=Australia/Adelaide:20220622T190000
DTEND;TZID=Australia/Adelaide:20220622T203000
DTSTAMP:20260425T122342
CREATED:20160606T093556Z
LAST-MODIFIED:20160606T093556Z
UID:2320-1655924400-1655929800@portlincolnchamber.com.au
SUMMARY:Port Lincoln Chamber of Commerce & Tourism General Meeting
DESCRIPTION:PLCC&T Committee meets every month to discuss the issues directly relating to the business community of Port Lincoln. Any interested business owners are welcome to join the committee at these meetings.
URL:https://portlincolnchamber.com.au/event/port-lincoln-chamber-of-commerce-tourism-general-meeting-2022-06-22/
LOCATION:Port Lincoln Hotel\, Port Lincoln\, 5606\, Australia
CATEGORIES:Meetings
ATTACH;FMTTYPE=:
END:VEVENT
BEGIN:VEVENT
DTSTART;TZID=Australia/Adelaide:20220525T190000
DTEND;TZID=Australia/Adelaide:20220525T203000
DTSTAMP:20260425T122342
CREATED:20160606T093556Z
LAST-MODIFIED:20160606T093556Z
UID:2319-1653505200-1653510600@portlincolnchamber.com.au
SUMMARY:Port Lincoln Chamber of Commerce & Tourism General Meeting
DESCRIPTION:PLCC&T Committee meets every month to discuss the issues directly relating to the business community of Port Lincoln. Any interested business owners are welcome to join the committee at these meetings.
URL:https://portlincolnchamber.com.au/event/port-lincoln-chamber-of-commerce-tourism-general-meeting-2022-05-25/
LOCATION:Port Lincoln Hotel\, Port Lincoln\, 5606\, Australia
CATEGORIES:Meetings
ATTACH;FMTTYPE=:
END:VEVENT
BEGIN:VEVENT
DTSTART;TZID=Australia/Adelaide:20220427T190000
DTEND;TZID=Australia/Adelaide:20220427T203000
DTSTAMP:20260425T122342
CREATED:20160606T093556Z
LAST-MODIFIED:20160606T093556Z
UID:2318-1651086000-1651091400@portlincolnchamber.com.au
SUMMARY:Port Lincoln Chamber of Commerce & Tourism General Meeting
DESCRIPTION:PLCC&T Committee meets every month to discuss the issues directly relating to the business community of Port Lincoln. Any interested business owners are welcome to join the committee at these meetings.
URL:https://portlincolnchamber.com.au/event/port-lincoln-chamber-of-commerce-tourism-general-meeting-2022-04-27/
LOCATION:Port Lincoln Hotel\, Port Lincoln\, 5606\, Australia
CATEGORIES:Meetings
ATTACH;FMTTYPE=:
END:VEVENT
BEGIN:VEVENT
DTSTART;TZID=Australia/Adelaide:20220323T190000
DTEND;TZID=Australia/Adelaide:20220323T203000
DTSTAMP:20260425T122342
CREATED:20160606T093556Z
LAST-MODIFIED:20160606T093556Z
UID:2317-1648062000-1648067400@portlincolnchamber.com.au
SUMMARY:Port Lincoln Chamber of Commerce & Tourism General Meeting
DESCRIPTION:PLCC&T Committee meets every month to discuss the issues directly relating to the business community of Port Lincoln. Any interested business owners are welcome to join the committee at these meetings.
URL:https://portlincolnchamber.com.au/event/port-lincoln-chamber-of-commerce-tourism-general-meeting-2022-03-23/
LOCATION:Port Lincoln Hotel\, Port Lincoln\, 5606\, Australia
CATEGORIES:Meetings
ATTACH;FMTTYPE=:
END:VEVENT
BEGIN:VEVENT
DTSTART;TZID=Australia/Adelaide:20220223T190000
DTEND;TZID=Australia/Adelaide:20220223T203000
DTSTAMP:20260425T122342
CREATED:20160606T093556Z
LAST-MODIFIED:20160606T093556Z
UID:2316-1645642800-1645648200@portlincolnchamber.com.au
SUMMARY:Port Lincoln Chamber of Commerce & Tourism General Meeting
DESCRIPTION:PLCC&T Committee meets every month to discuss the issues directly relating to the business community of Port Lincoln. Any interested business owners are welcome to join the committee at these meetings.
URL:https://portlincolnchamber.com.au/event/port-lincoln-chamber-of-commerce-tourism-general-meeting-2022-02-23/
LOCATION:Port Lincoln Hotel\, Port Lincoln\, 5606\, Australia
CATEGORIES:Meetings
ATTACH;FMTTYPE=:
END:VEVENT
BEGIN:VEVENT
DTSTART;TZID=Australia/Adelaide:20220126T190000
DTEND;TZID=Australia/Adelaide:20220126T203000
DTSTAMP:20260425T122342
CREATED:20160606T093556Z
LAST-MODIFIED:20160606T093556Z
UID:2311-1643223600-1643229000@portlincolnchamber.com.au
SUMMARY:Port Lincoln Chamber of Commerce & Tourism General Meeting
DESCRIPTION:PLCC&T Committee meets every month to discuss the issues directly relating to the business community of Port Lincoln. Any interested business owners are welcome to join the committee at these meetings.
URL:https://portlincolnchamber.com.au/event/port-lincoln-chamber-of-commerce-tourism-general-meeting-2022-01-26/
LOCATION:Port Lincoln Hotel\, Port Lincoln\, 5606\, Australia
CATEGORIES:Meetings
ATTACH;FMTTYPE=:
END:VEVENT
BEGIN:VEVENT
DTSTART;TZID=Australia/Adelaide:20211222T190000
DTEND;TZID=Australia/Adelaide:20211222T203000
DTSTAMP:20260425T122342
CREATED:20160606T093556Z
LAST-MODIFIED:20160606T093556Z
UID:2298-1640199600-1640205000@portlincolnchamber.com.au
SUMMARY:Port Lincoln Chamber of Commerce & Tourism General Meeting
DESCRIPTION:PLCC&T Committee meets every month to discuss the issues directly relating to the business community of Port Lincoln. Any interested business owners are welcome to join the committee at these meetings.
URL:https://portlincolnchamber.com.au/event/port-lincoln-chamber-of-commerce-tourism-general-meeting-2021-12-22/
LOCATION:Port Lincoln Hotel\, Port Lincoln\, 5606\, Australia
CATEGORIES:Meetings
ATTACH;FMTTYPE=:
END:VEVENT
BEGIN:VEVENT
DTSTART;TZID=Australia/Adelaide:20211124T190000
DTEND;TZID=Australia/Adelaide:20211124T203000
DTSTAMP:20260425T122342
CREATED:20160606T093556Z
LAST-MODIFIED:20160606T093556Z
UID:2291-1637780400-1637785800@portlincolnchamber.com.au
SUMMARY:Port Lincoln Chamber of Commerce & Tourism General Meeting
DESCRIPTION:PLCC&T Committee meets every month to discuss the issues directly relating to the business community of Port Lincoln. Any interested business owners are welcome to join the committee at these meetings.
URL:https://portlincolnchamber.com.au/event/port-lincoln-chamber-of-commerce-tourism-general-meeting-2021-11-24/
LOCATION:Port Lincoln Hotel\, Port Lincoln\, 5606\, Australia
CATEGORIES:Meetings
ATTACH;FMTTYPE=:
END:VEVENT
BEGIN:VEVENT
DTSTART;TZID=Australia/Adelaide:20211027T190000
DTEND;TZID=Australia/Adelaide:20211027T203000
DTSTAMP:20260425T122342
CREATED:20160606T093556Z
LAST-MODIFIED:20160606T093556Z
UID:2265-1635361200-1635366600@portlincolnchamber.com.au
SUMMARY:Port Lincoln Chamber of Commerce & Tourism General Meeting
DESCRIPTION:PLCC&T Committee meets every month to discuss the issues directly relating to the business community of Port Lincoln. Any interested business owners are welcome to join the committee at these meetings.
URL:https://portlincolnchamber.com.au/event/port-lincoln-chamber-of-commerce-tourism-general-meeting-2021-10-27/
LOCATION:Port Lincoln Hotel\, Port Lincoln\, 5606\, Australia
CATEGORIES:Meetings
ATTACH;FMTTYPE=:
END:VEVENT
BEGIN:VEVENT
DTSTART;TZID=Australia/Adelaide:20210922T190000
DTEND;TZID=Australia/Adelaide:20210922T203000
DTSTAMP:20260425T122342
CREATED:20160606T093556Z
LAST-MODIFIED:20160606T093556Z
UID:2227-1632337200-1632342600@portlincolnchamber.com.au
SUMMARY:Port Lincoln Chamber of Commerce & Tourism General Meeting
DESCRIPTION:PLCC&T Committee meets every month to discuss the issues directly relating to the business community of Port Lincoln. Any interested business owners are welcome to join the committee at these meetings.
URL:https://portlincolnchamber.com.au/event/port-lincoln-chamber-of-commerce-tourism-general-meeting-2021-09-22/
LOCATION:Port Lincoln Hotel\, Port Lincoln\, 5606\, Australia
CATEGORIES:Meetings
ATTACH;FMTTYPE=:
END:VEVENT
BEGIN:VEVENT
DTSTART;TZID=Australia/Adelaide:20210825T190000
DTEND;TZID=Australia/Adelaide:20210825T203000
DTSTAMP:20260425T122342
CREATED:20160606T093556Z
LAST-MODIFIED:20160606T093556Z
UID:2216-1629918000-1629923400@portlincolnchamber.com.au
SUMMARY:Port Lincoln Chamber of Commerce & Tourism General Meeting
DESCRIPTION:PLCC&T Committee meets every month to discuss the issues directly relating to the business community of Port Lincoln. Any interested business owners are welcome to join the committee at these meetings.
URL:https://portlincolnchamber.com.au/event/port-lincoln-chamber-of-commerce-tourism-general-meeting-2021-08-25/
LOCATION:Port Lincoln Hotel\, Port Lincoln\, 5606\, Australia
CATEGORIES:Meetings
ATTACH;FMTTYPE=:
END:VEVENT
BEGIN:VEVENT
DTSTART;TZID=Australia/Adelaide:20210728T190000
DTEND;TZID=Australia/Adelaide:20210728T203000
DTSTAMP:20260425T122342
CREATED:20160606T093556Z
LAST-MODIFIED:20160606T093556Z
UID:2189-1627498800-1627504200@portlincolnchamber.com.au
SUMMARY:Port Lincoln Chamber of Commerce & Tourism General Meeting
DESCRIPTION:PLCC&T Committee meets every month to discuss the issues directly relating to the business community of Port Lincoln. Any interested business owners are welcome to join the committee at these meetings.
URL:https://portlincolnchamber.com.au/event/port-lincoln-chamber-of-commerce-tourism-general-meeting-2021-07-28/
LOCATION:Port Lincoln Hotel\, Port Lincoln\, 5606\, Australia
CATEGORIES:Meetings
ATTACH;FMTTYPE=:
END:VEVENT
BEGIN:VEVENT
DTSTART;TZID=Australia/Adelaide:20210623T190000
DTEND;TZID=Australia/Adelaide:20210623T203000
DTSTAMP:20260425T122342
CREATED:20160606T093556Z
LAST-MODIFIED:20160606T093556Z
UID:2188-1624474800-1624480200@portlincolnchamber.com.au
SUMMARY:Port Lincoln Chamber of Commerce & Tourism General Meeting
DESCRIPTION:PLCC&T Committee meets every month to discuss the issues directly relating to the business community of Port Lincoln. Any interested business owners are welcome to join the committee at these meetings.
URL:https://portlincolnchamber.com.au/event/port-lincoln-chamber-of-commerce-tourism-general-meeting-2021-06-23/
LOCATION:Port Lincoln Hotel\, Port Lincoln\, 5606\, Australia
CATEGORIES:Meetings
ATTACH;FMTTYPE=:
END:VEVENT
BEGIN:VEVENT
DTSTART;TZID=Australia/Adelaide:20210526T190000
DTEND;TZID=Australia/Adelaide:20210526T203000
DTSTAMP:20260425T122342
CREATED:20160606T093556Z
LAST-MODIFIED:20160606T093556Z
UID:2187-1622055600-1622061000@portlincolnchamber.com.au
SUMMARY:Port Lincoln Chamber of Commerce & Tourism General Meeting
DESCRIPTION:PLCC&T Committee meets every month to discuss the issues directly relating to the business community of Port Lincoln. Any interested business owners are welcome to join the committee at these meetings.
URL:https://portlincolnchamber.com.au/event/port-lincoln-chamber-of-commerce-tourism-general-meeting-2021-05-26/
LOCATION:Port Lincoln Hotel\, Port Lincoln\, 5606\, Australia
CATEGORIES:Meetings
ATTACH;FMTTYPE=:
END:VEVENT
BEGIN:VEVENT
DTSTART;TZID=Australia/Adelaide:20210428T190000
DTEND;TZID=Australia/Adelaide:20210428T203000
DTSTAMP:20260425T122342
CREATED:20160606T093556Z
LAST-MODIFIED:20160606T093556Z
UID:2186-1619636400-1619641800@portlincolnchamber.com.au
SUMMARY:Port Lincoln Chamber of Commerce & Tourism General Meeting
DESCRIPTION:PLCC&T Committee meets every month to discuss the issues directly relating to the business community of Port Lincoln. Any interested business owners are welcome to join the committee at these meetings.
URL:https://portlincolnchamber.com.au/event/port-lincoln-chamber-of-commerce-tourism-general-meeting-2021-04-28/
LOCATION:Port Lincoln Hotel\, Port Lincoln\, 5606\, Australia
CATEGORIES:Meetings
ATTACH;FMTTYPE=:
END:VEVENT
BEGIN:VEVENT
DTSTART;TZID=Australia/Adelaide:20210324T190000
DTEND;TZID=Australia/Adelaide:20210324T203000
DTSTAMP:20260425T122342
CREATED:20160606T093556Z
LAST-MODIFIED:20160606T093556Z
UID:2185-1616612400-1616617800@portlincolnchamber.com.au
SUMMARY:Port Lincoln Chamber of Commerce & Tourism General Meeting
DESCRIPTION:PLCC&T Committee meets every month to discuss the issues directly relating to the business community of Port Lincoln. Any interested business owners are welcome to join the committee at these meetings.
URL:https://portlincolnchamber.com.au/event/port-lincoln-chamber-of-commerce-tourism-general-meeting-2021-03-24/
LOCATION:Port Lincoln Hotel\, Port Lincoln\, 5606\, Australia
CATEGORIES:Meetings
ATTACH;FMTTYPE=:
END:VEVENT
BEGIN:VEVENT
DTSTART;TZID=Australia/Adelaide:20210224T190000
DTEND;TZID=Australia/Adelaide:20210224T203000
DTSTAMP:20260425T122342
CREATED:20160606T093556Z
LAST-MODIFIED:20160606T093556Z
UID:2184-1614193200-1614198600@portlincolnchamber.com.au
SUMMARY:Port Lincoln Chamber of Commerce & Tourism General Meeting
DESCRIPTION:PLCC&T Committee meets every month to discuss the issues directly relating to the business community of Port Lincoln. Any interested business owners are welcome to join the committee at these meetings.
URL:https://portlincolnchamber.com.au/event/port-lincoln-chamber-of-commerce-tourism-general-meeting-2021-02-24/
LOCATION:Port Lincoln Hotel\, Port Lincoln\, 5606\, Australia
CATEGORIES:Meetings
ATTACH;FMTTYPE=:
END:VEVENT
BEGIN:VEVENT
DTSTART;TZID=Australia/Adelaide:20210222T190000
DTEND;TZID=Australia/Adelaide:20210222T203000
DTSTAMP:20260425T122342
CREATED:20160606T093556Z
LAST-MODIFIED:20160606T093556Z
UID:2118-1614020400-1614025800@portlincolnchamber.com.au
SUMMARY:Port Lincoln Chamber of Commerce & Tourism General Meeting
DESCRIPTION:PLCC&T Committee meets every month to discuss the issues directly relating to the business community of Port Lincoln. Any interested business owners are welcome to join the committee at these meetings.
URL:https://portlincolnchamber.com.au/event/port-lincoln-chamber-of-commerce-tourism-general-meeting-2021-02-22/
CATEGORIES:Meetings
ATTACH;FMTTYPE=:
END:VEVENT
END:VCALENDAR