BEGIN:VCALENDAR
VERSION:2.0
PRODID:-//Port Lincoln Chamber of Commerce and Tourism - ECPv6.13.2.1//NONSGML v1.0//EN
CALSCALE:GREGORIAN
METHOD:PUBLISH
X-WR-CALNAME:Port Lincoln Chamber of Commerce and Tourism
X-ORIGINAL-URL:https://portlincolnchamber.com.au
X-WR-CALDESC:Events for Port Lincoln Chamber of Commerce and Tourism
REFRESH-INTERVAL;VALUE=DURATION:PT1H
X-Robots-Tag:noindex
X-PUBLISHED-TTL:PT1H
BEGIN:VTIMEZONE
TZID:Australia/Adelaide
BEGIN:STANDARD
TZOFFSETFROM:+1030
TZOFFSETTO:+0930
TZNAME:ACST
DTSTART:20150404T163000
END:STANDARD
BEGIN:DAYLIGHT
TZOFFSETFROM:+0930
TZOFFSETTO:+1030
TZNAME:ACDT
DTSTART:20151003T163000
END:DAYLIGHT
BEGIN:STANDARD
TZOFFSETFROM:+1030
TZOFFSETTO:+0930
TZNAME:ACST
DTSTART:20160402T163000
END:STANDARD
BEGIN:DAYLIGHT
TZOFFSETFROM:+0930
TZOFFSETTO:+1030
TZNAME:ACDT
DTSTART:20161001T163000
END:DAYLIGHT
END:VTIMEZONE
BEGIN:VTIMEZONE
TZID:UTC
BEGIN:STANDARD
TZOFFSETFROM:+0000
TZOFFSETTO:+0000
TZNAME:UTC
DTSTART:20130101T000000
END:STANDARD
END:VTIMEZONE
BEGIN:VEVENT
DTSTART;TZID=Australia/Adelaide:20160525T060000
DTEND;TZID=Australia/Adelaide:20160525T203000
DTSTAMP:20260425T124725
CREATED:20160520T140557Z
LAST-MODIFIED:20160520T140557Z
UID:1413-1464156000-1464208200@portlincolnchamber.com.au
SUMMARY:Port Lincoln Chamber of Commerce & Tourism General Committee Meeting
DESCRIPTION:Each month the PLCC&T committee meet to discuss matters related to the many facets of business in Port Lincoln. To gain an insight into the work of the Chamber we invite non-committee members to attend these meetings. Meetings are held every 4th Wednesday of each month at bnj Consultants Board Room\, upstairs at 12 Lewis Street\, Port Lincoln starting at 6.00pm.
URL:https://portlincolnchamber.com.au/event/port-lincoln-chamber-of-commerce-tourism-general-committee-meeting/
CATEGORIES:Meetings
ATTACH;FMTTYPE=:
END:VEVENT
BEGIN:VEVENT
DTSTART;TZID=Australia/Adelaide:20160504T183000
DTEND;TZID=Australia/Adelaide:20160504T193000
DTSTAMP:20260425T124725
CREATED:20160413T140036Z
LAST-MODIFIED:20160413T140036Z
UID:3235-1462386600-1462390200@portlincolnchamber.com.au
SUMMARY:Port Lincoln Chamber of Commerce & Tourism AGM 2016
DESCRIPTION:The Port Lincoln Chamber of Commerce and Tourism \ninvites all current members\, business owners and interested people to attend:\n2016 AGM\nWednesday 4th May. Please note that this is a revised date.\n6.15pm for a 6.30pm start\,\nLight supper will be provided
URL:https://portlincolnchamber.com.au/event/plcct-agm-2016/
CATEGORIES:Meetings
ATTACH;FMTTYPE=:
END:VEVENT
BEGIN:VEVENT
DTSTART;TZID=Australia/Adelaide:20160406T090000
DTEND;TZID=Australia/Adelaide:20160406T163000
DTSTAMP:20260425T124725
CREATED:20160224T160657Z
LAST-MODIFIED:20160224T160657Z
UID:3227-1459933200-1459960200@portlincolnchamber.com.au
SUMMARY:Free Return to Work Coordinator training
DESCRIPTION:ReturnToWorkSA is delivering training to provide participants an understanding of the functions\, roles and responsibilities of a return to work coordinator. .
URL:https://portlincolnchamber.com.au/event/free-return-work-coordinator-training/
LOCATION:Port Lincoln Hotel\, 1 Lincoln Highway\, Port Lincoln\, SA\, 5606\, Australia
CATEGORIES:Seminars
END:VEVENT
BEGIN:VEVENT
DTSTART;TZID=Australia/Adelaide:20160406T080000
DTEND;TZID=Australia/Adelaide:20160406T160000
DTSTAMP:20260425T124725
CREATED:20160318T095347Z
LAST-MODIFIED:20160318T095347Z
UID:3229-1459929600-1459958400@portlincolnchamber.com.au
SUMMARY:Pacific Eden Visit
DESCRIPTION:The Pacific Eden Cruise ship will visit Port Lincoln today
URL:https://portlincolnchamber.com.au/event/pacific-eden-visit-2/
END:VEVENT
BEGIN:VEVENT
DTSTART;TZID=Australia/Adelaide:20160323T080000
DTEND;TZID=Australia/Adelaide:20160323T160000
DTSTAMP:20260425T124725
CREATED:20160318T095218Z
LAST-MODIFIED:20160318T095218Z
UID:3228-1458720000-1458748800@portlincolnchamber.com.au
SUMMARY:Pacific Eden Visit
DESCRIPTION:The Pacific Eden cruise ship will visit Port Lincoln today
URL:https://portlincolnchamber.com.au/event/pacific-eden-visit/
END:VEVENT
BEGIN:VEVENT
DTSTART;TZID=Australia/Adelaide:20160103T080000
DTEND;TZID=Australia/Adelaide:20160103T170000
DTSTAMP:20260425T124725
CREATED:20150304T124212Z
LAST-MODIFIED:20150304T124212Z
UID:1016-1451808000-1451840400@portlincolnchamber.com.au
SUMMARY:Pacific Jewel Cruise Ship Visit
DESCRIPTION:PacificJewel4th
URL:https://portlincolnchamber.com.au/event/pacific-jewel-cruise-ship-visit/
END:VEVENT
BEGIN:VEVENT
DTSTART;TZID=Australia/Adelaide:20151203T123000
DTEND;TZID=Australia/Adelaide:20151203T160000
DTSTAMP:20260425T124725
CREATED:20151104T154408Z
LAST-MODIFIED:20151104T154408Z
UID:3222-1449145800-1449158400@portlincolnchamber.com.au
SUMMARY:Workshop on Business Income Tax Essentials
DESCRIPTION:The purpose of this workshop is to provide you with a basic knowledge of business income tax calculation principles and rules. \nThis will enable you to assist your employer to minimise the amount of business income tax whilst meeting Australian Tax Office compliance requirements. \nEmployers are seeking staff with business income tax skills and knowledge\, this workshop will assist you to gain employment\, to perform your current duties more effectively and improve your job security. \nThis workshop will be of particular interest to:\n• Current and former students of Accounting\, Bookkeeping\, Business Management\, Business Administration\, Retail Services\, Sales and Marketing\n• Any current and former TAFE SA students wanting to learn how to apply business income tax rules to their employment or for personal use\n• Anyone who would like to learn business tax deduction techniques\nWorkshop Contents:\nOver the 3 hours\, the workshop will cover the claimable business expenses (allowable deductions) and assessable business income (income which is subject to tax). \nDetailed workshop information can be found by clicking on Business Income Tax Essentials \nWorkshop locations:\nThe workshop will be offered at Adelaide City\, Barossa\, Berri\, Clare\, Elizabeth\, Gawler\, Kadina\, Kangaroo Island\, Millicent\, Mount Barker\, Mount Gambier\, Naracoorte\, Noarlunga\, Port Adelaide\, Port Augusta\, Port Lincoln\, Port Pirie\, Tea Tree Gully\, Tonsley\, Victor Harbor and Whyalla campuses. \nWorkshop Fee: $150.00 per person (this fee may be tax deductible). \nWorkshop Timetable: There are three choices of session times available. These are:\n• Morning session 9.30am-12.30pm\n• Afternoon session 1.30pm-4.30pm\n• Evening session 6.00pm-9.00pm\nTo check which times will be offered at each location click on the Workshop Timetable. \nWorkshop Delivery:\nThis workshop will be conducted by our business tax professionals who have extensive experience in business transactions and business taxation rules and principles. \nParticipants will work through and discuss real life examples and scenarios to develop skills and knowledge to minimise their business income tax. \nTraining Materials: All training materials are included in the seminar fee and will be provided on the day. \nWorkshop Places are Limited\, Apply and Secure Your Seat Now! \nTo apply for this Workshop\, click on Apply Now \nContact us:\nIf you or your colleagues require further information and enrolment details\, please contact us at:\nOnline: click on Business income tax essentials enquiry.\nEmail: Corporate.training@tafesa.edu.au\nPhone: (08) 8207 8050.
URL:https://portlincolnchamber.com.au/event/workshop-on-business-income-tax-essentials/
LOCATION:Training\, Workshops and Mentoring
CATEGORIES:Seminars
END:VEVENT
BEGIN:VEVENT
DTSTART;TZID=Australia/Adelaide:20151202T080000
DTEND;TZID=Australia/Adelaide:20151202T100000
DTSTAMP:20260425T124725
CREATED:20151102T160433Z
LAST-MODIFIED:20151102T160433Z
UID:3223-1449043200-1449050400@portlincolnchamber.com.au
SUMMARY:Employsure Seminar
DESCRIPTION:Are you managing your staff effectively and efficiently in-line with current workplace laws? \nPort Lincoln Chamber of Commerce and Tourism has partnered with Employsure\, Australia’s leading workplace relations specialist\, to host a free seminar to help you handle the top employment relations issues faced by businesses today. \nKeeping up to date with workplace laws and managing your staff accordingly is crucial for the success of any business. \nAT THIS SEMINAR\, FIND OUT HOW TO MANAGE:\n–  Bullying and harassment\n–  Performance management\n–  Misconduct and termination\n–  Key employee entitlements \nJoin us at our complimentary event – it could make all the difference. \nDownload the pdf here to find out how to register:\nEvent invitation
URL:https://portlincolnchamber.com.au/event/employsure-seminar/
LOCATION:Port Lincoln Hotel\, 1 Lincoln Highway\, Port Lincoln\, SA\, 5606\, Australia
END:VEVENT
BEGIN:VEVENT
DTSTART;TZID=Australia/Adelaide:20151120T110000
DTEND;TZID=Australia/Adelaide:20151120T170000
DTSTAMP:20260425T124725
CREATED:20151119T164025Z
LAST-MODIFIED:20151119T164025Z
UID:3226-1448017200-1448038800@portlincolnchamber.com.au
SUMMARY:Reduction Auction - Mooses Industries
DESCRIPTION:We would like to inform you of ‘Moose Industries’ Workshop Machinery Reduction Auction\, this Friday the 20th of November. Items of interest to you may include; \n• Lathe\n• Milling Machine\n• Tungsten Grit Hard Facing Machine\n• Drill Presses\n• Various Welders \nBelow are more details about the day\, and a website that you can go too\, to see the full items list. We appreciate your time! \n“Reduction Auction” – Friday 20th November at 11am:\nSausage sizzle for a $2 donation to the Womens & Childrens Hospital provided on the day.\nItems including forklift\, lathe\, milling machine\, welders\, brake press\, guillotine\, panbrake folders\, band saw\, steel racks\, drill presses\, hand tools\, power tools\, lots of sundry items\nFor full list go to www.farmclearingsales.com.au.
URL:https://portlincolnchamber.com.au/event/reduction-auction-mooses-industries/
END:VEVENT
BEGIN:VEVENT
DTSTART;TZID=Australia/Adelaide:20151119T080000
DTEND;TZID=Australia/Adelaide:20151119T100000
DTSTAMP:20260425T124725
CREATED:20151104T154233Z
LAST-MODIFIED:20151104T154233Z
UID:3224-1447920000-1447927200@portlincolnchamber.com.au
SUMMARY:Workers’ compensation\, health and safety—Knowing your legal obligations
DESCRIPTION:Sparke Helmore Lawyers are hosting a complimentary two-part seminar series on the application and interaction of the Return to Work Act 2014 (SA) and the Work Health and Safety Act 2012 (SA). They will examine the key elements of the legislation\, helping you to understand how the legislation impacts your workplace. This seminar series is tailored to those who: \n• interact regularly with employees\n• are responsible for health and safety in the workplace\, and/or\n• manage injuries\, claims and/or employment matters.
URL:https://portlincolnchamber.com.au/event/workers-compensation-health-and-safety-knowing-your-legal-obligations/
LOCATION:Port Lincoln Hotel
CATEGORIES:Seminars
ATTACH;FMTTYPE=:
END:VEVENT
BEGIN:VEVENT
DTSTART;VALUE=DATE:20151116
DTEND;VALUE=DATE:20151219
DTSTAMP:20260425T124725
CREATED:20151117T115544Z
LAST-MODIFIED:20151117T115544Z
UID:3225-1447632000-1450483199@portlincolnchamber.com.au
SUMMARY:Port Lincoln Business Window Display Competition
DESCRIPTION:PORT LINCOLN BUSINESS CHRISTMAS WINDOW DISPLAY COMPETITION\nPromote your business and get into the Christmas spirit at the same time….\nThis year we are looking for the best and most creative window display in the lead up to Christmas.\nOne small twist – we want you to get creative and use the products or services that you promote in your business to form the base for your window display!\nGet your staff together to generate ideas and come up with a fantastic display with a Christmas theme. Take a look at this website for some tips on creating a great window display for your business. \n8 Tips to Create Winning Window Displays \n \nA joint initiative of the Port Lincoln Chamber of Commerce & Tourism and Radio 5CC Magic 89.9
URL:https://portlincolnchamber.com.au/event/port-lincoln-business-widow-display-competition/
LOCATION:Various
CATEGORIES:Media
END:VEVENT
BEGIN:VEVENT
DTSTART;TZID=Australia/Adelaide:20151023T190000
DTEND;TZID=Australia/Adelaide:20151023T230000
DTSTAMP:20260425T124725
CREATED:20150809T125140Z
LAST-MODIFIED:20150809T125140Z
UID:3219-1445626800-1445641200@portlincolnchamber.com.au
SUMMARY:Beyond Bank Business Excellence Awards 2015
DESCRIPTION:  \n \n  \n  \nAwards will be presented at the Beyond Bank Business Excellence Awards Dinner on October 23 at Ravendale Sporting Complex. Tickets are available online from \nRegistration Link Here
URL:https://portlincolnchamber.com.au/event/beyond-bank-business-excellence-awards-2015/
CATEGORIES:Business Awards
END:VEVENT
BEGIN:VEVENT
DTSTART;TZID=Australia/Adelaide:20151014T173000
DTEND;TZID=Australia/Adelaide:20151014T193000
DTSTAMP:20260425T124725
CREATED:20151010T164154Z
LAST-MODIFIED:20151010T164154Z
UID:1182-1444843800-1444851000@portlincolnchamber.com.au
SUMMARY:Business SA\'s Connecting SA Business  Night
DESCRIPTION:Formerly known as Regional Connection\, Business SA’s ‘Connecting SA Business’ series is the ideal way to build valuable professional networks\, learn from experts and promote your products and services at one of our complimentary events.\nHear from Business SA CEO Nigel McBride as he provides insights into the issues affecting your business\, including areas like regional economic challenges\, skills shortages\, wages costs\, taxation and the cost of utilities.\nEnjoy some fabulous local food\, quality SA wine and talk to people in industry who share your challenges. Walk away with new connections\, new opportunities\, new business insights and watch your business networks grow.\nIn support of regional South Australia\, this free event is open to all members and non-members. This is made possible by the generosity of our event partners.\nConnecting SA Business is proudly presented with the support of the Port Lincoln Chamber of Commerce and Tourism Inc.\nPlease note that this is a registration only event. \nRegistration Link Here
URL:https://portlincolnchamber.com.au/event/business-sas-connecting-sa-business-night/
LOCATION:Port Lincoln Hotel\, 1 Lincoln Highway\, Port Lincoln\, SA\, 5606\, Australia
CATEGORIES:Business SA
END:VEVENT
BEGIN:VEVENT
DTSTART;TZID=Australia/Adelaide:20151009T173000
DTEND;TZID=Australia/Adelaide:20151009T183000
DTSTAMP:20260425T124725
CREATED:20150926T115945Z
LAST-MODIFIED:20150926T115945Z
UID:3221-1444411800-1444415400@portlincolnchamber.com.au
SUMMARY:#portlincoln Launch
DESCRIPTION:Join us at the Port Lincoln Visitor Information Centre for the launch of this exciting new initiative.
URL:https://portlincolnchamber.com.au/event/portlincoln-launch/
END:VEVENT
BEGIN:VEVENT
DTSTART;TZID=Australia/Adelaide:20150929T180000
DTEND;TZID=Australia/Adelaide:20150929T203000
DTSTAMP:20260425T124725
CREATED:20150926T115525Z
LAST-MODIFIED:20150926T115525Z
UID:3220-1443549600-1443558600@portlincolnchamber.com.au
SUMMARY:PLCC&T Networking Event
DESCRIPTION:Port Lincoln Chamber of Commerce & Tourism\nIn partnership with the Eyre Industry Leaders Group\, Eye Energy Systems and Beyond Bank\,\ninvite you to attend the Business Networking Event – September!\nTo be held at\nPort Lincoln Hotel\n29 September 2015\, 6:00 – 8:00pm. \nJoin us along with fellow SME owners for a networking event with a difference. Presentations from:\n• Eye Energy Systems about an alternative to buying energy off the grid from retailers;\n• Business initiatives available with Beyond Bank and\n• Department of State Development – Jason Downs – Leader for Engagement\, Strategic Economics and Policy Coordination Division about a project to investigate alternative financing options for SME in South Australia. See below for more details about this presentation. This will be of interest to all SME owners and operators in our region. \nRunning your own Small to Medium Business and keen to hear about potential alternative financing options for your business? \nYou need to attend this function to hear more about a proposed project where this may be possible….. \nThe presentation will be facilitated by Department of State Development – Jason Downs – Leader for Engagement\, Strategic Economics and Policy Coordination Division and will include discussion with Nicole Turvey – Regional Manager and Project Lead\, and Warwick Cheatle – A/Director Employment.\nOverview\nSmall businesses are of great importance to economic growth and job creation\, with over 99.8 % of the state’s business being small to medium sized and employing around 7 million Australians (70 % of total employment).\nThis project involves connecting the investor and business through an online platform that gives small business access to capital and global markets\, enabling them to enter new markets\, diversify or innovate.\nThis project will explore and evaluate:\n• models that will enable business to access capital through alternative methods\n• Government’s role in facilitating access to this process\n• creating a sustainable source of capital for business in South Australia. \nMore details here – http://publicsector.sa.gov.au/culture/90-day-projects/alternative-finance-options-for-small-business/\nFor more information don’t hesitate to contact Tim Coote – 0477 720 091 or Richard Horgan – 0428 134 960 \n 
URL:https://portlincolnchamber.com.au/event/plcct-networking-event/
LOCATION:Port Lincoln Hotel
END:VEVENT
BEGIN:VEVENT
DTSTART;VALUE=DATE:20141006
DTEND;VALUE=DATE:20141007
DTSTAMP:20260425T124725
CREATED:20130313T160321Z
LAST-MODIFIED:20130313T160321Z
UID:446-1412553600-1412639999@portlincolnchamber.com.au
SUMMARY:Labour Day - Public Holiday
DESCRIPTION:
URL:https://portlincolnchamber.com.au/event/labour-day-public-holiday-2/
END:VEVENT
BEGIN:VEVENT
DTSTART;VALUE=DATE:20140609
DTEND;VALUE=DATE:20140610
DTSTAMP:20260425T124725
CREATED:20130313T160123Z
LAST-MODIFIED:20130313T160123Z
UID:445-1402272000-1402358399@portlincolnchamber.com.au
SUMMARY:Queen\'s Birthday - Public Holiday
DESCRIPTION:
URL:https://portlincolnchamber.com.au/event/queens-birthday-public-holiday-2/
END:VEVENT
BEGIN:VEVENT
DTSTART;VALUE=DATE:20140418
DTEND;VALUE=DATE:20140422
DTSTAMP:20260425T124725
CREATED:20130313T160021Z
LAST-MODIFIED:20130313T160021Z
UID:444-1397779200-1398124799@portlincolnchamber.com.au
SUMMARY:Easter
DESCRIPTION:
URL:https://portlincolnchamber.com.au/event/easter-2/
END:VEVENT
BEGIN:VEVENT
DTSTART;VALUE=DATE:20140310
DTEND;VALUE=DATE:20140311
DTSTAMP:20260425T124725
CREATED:20130313T155914Z
LAST-MODIFIED:20130313T155914Z
UID:443-1394409600-1394495999@portlincolnchamber.com.au
SUMMARY:Public Holiday (TBC)
DESCRIPTION:
URL:https://portlincolnchamber.com.au/event/public-holiday-tbc/
END:VEVENT
BEGIN:VEVENT
DTSTART;VALUE=DATE:20140126
DTEND;VALUE=DATE:20140127
DTSTAMP:20260425T124725
CREATED:20130313T155830Z
LAST-MODIFIED:20130313T155830Z
UID:442-1390694400-1390780799@portlincolnchamber.com.au
SUMMARY:Australia Day - Public Holiday
DESCRIPTION:*If the 26th Jan falls on a Saturday or Sunday the public holiday will be on the following Monday.
URL:https://portlincolnchamber.com.au/event/australia-day-public-holiday/
END:VEVENT
BEGIN:VEVENT
DTSTART;VALUE=DATE:20140101
DTEND;VALUE=DATE:20140102
DTSTAMP:20260425T124725
CREATED:20130313T155438Z
LAST-MODIFIED:20130313T155438Z
UID:441-1388534400-1388620799@portlincolnchamber.com.au
SUMMARY:New Years Day - Public Holiday
DESCRIPTION:
URL:https://portlincolnchamber.com.au/event/new-years-day-public-holiday/
END:VEVENT
BEGIN:VEVENT
DTSTART;VALUE=DATE:20131226
DTEND;VALUE=DATE:20131227
DTSTAMP:20260425T124725
CREATED:20130313T155309Z
LAST-MODIFIED:20130313T155309Z
UID:440-1388016000-1388102399@portlincolnchamber.com.au
SUMMARY:Boxing Day - Public Holiday
DESCRIPTION:
URL:https://portlincolnchamber.com.au/event/boxing-day-public-holiday/
END:VEVENT
BEGIN:VEVENT
DTSTART;VALUE=DATE:20131225
DTEND;VALUE=DATE:20131226
DTSTAMP:20260425T124725
CREATED:20130313T155112Z
LAST-MODIFIED:20130313T155112Z
UID:439-1387929600-1388015999@portlincolnchamber.com.au
SUMMARY:Christmas Day- Public Holiday
DESCRIPTION:
URL:https://portlincolnchamber.com.au/event/christmas-day-public-holiday/
END:VEVENT
BEGIN:VEVENT
DTSTART;TZID=UTC:20131108T180000
DTEND;TZID=UTC:20131108T230000
DTSTAMP:20260425T124725
CREATED:20130403T154048Z
LAST-MODIFIED:20130403T154048Z
UID:478-1383933600-1383951600@portlincolnchamber.com.au
SUMMARY:2013 South Australian Tourism Awards Presentation & Gala Dinner
DESCRIPTION:Brought to you by the South Australian Tourism Industry Council recognizing and promoting excellence in South Australian Tourism.
URL:https://portlincolnchamber.com.au/event/2013-south-australian-tourism-awards-presentation-gala-dinner/
END:VEVENT
BEGIN:VEVENT
DTSTART;TZID=UTC:20131105T110000
DTEND;TZID=UTC:20131105T170000
DTSTAMP:20260425T124725
CREATED:20130403T150201Z
LAST-MODIFIED:20130403T150201Z
UID:477-1383649200-1383670800@portlincolnchamber.com.au
SUMMARY:Melbourne Cup
DESCRIPTION:
URL:https://portlincolnchamber.com.au/event/melbourne-cup/
END:VEVENT
BEGIN:VEVENT
DTSTART;TZID=UTC:20131102T180000
DTEND;TZID=UTC:20131102T230000
DTSTAMP:20260425T124725
CREATED:20130403T145921Z
LAST-MODIFIED:20130403T145921Z
UID:475-1383415200-1383433200@portlincolnchamber.com.au
SUMMARY:2013 Business Excellence Awards
DESCRIPTION:The 2013 Port Lincoln Chamber of Commerce and Tourism Business Excellence Awards will be held on Saturday 2nd November 2013 at the Port Lincoln Hotel. To nominate a business or person download the a entry form from our website or pick one up at participating businesses. \nThe Port Lincoln Chamber of Commerce and Tourism – Recognizing excellence in business and customer service in Port Lincoln.
URL:https://portlincolnchamber.com.au/event/2013-business-excellence-awards/
LOCATION:Port Lincoln Hotel\, 1 LINCOLN HIGHWAY\, PORT LINCOLN
END:VEVENT
BEGIN:VEVENT
DTSTART;VALUE=DATE:20131007
DTEND;VALUE=DATE:20131008
DTSTAMP:20260425T124725
CREATED:20130313T154934Z
LAST-MODIFIED:20130313T154934Z
UID:438-1381104000-1381190399@portlincolnchamber.com.au
SUMMARY:Labour Day - Public Holiday
DESCRIPTION:
URL:https://portlincolnchamber.com.au/event/labour-day-public-holiday/
END:VEVENT
BEGIN:VEVENT
DTSTART;TZID=UTC:20130702T190000
DTEND;TZID=UTC:20130703T170000
DTSTAMP:20260425T124725
CREATED:20130508T174958Z
LAST-MODIFIED:20130508T174958Z
UID:563-1372791600-1372870800@portlincolnchamber.com.au
SUMMARY:CEO Sleepout
DESCRIPTION:There are more than 100\,000 Australian\’s who find themselves homeless each night. \nJust under half of these are women and a quarter under the age of 18. \nThe Vinnies CEO Sleepout is a unique way for business leaders to raise awareness and important funds in support of essential homeless services. \n 
URL:https://portlincolnchamber.com.au/event/ceo-sleepout/
LOCATION:Venue TBA\, Australia
END:VEVENT
BEGIN:VEVENT
DTSTART;VALUE=DATE:20130610
DTEND;VALUE=DATE:20130611
DTSTAMP:20260425T124725
CREATED:20130313T154822Z
LAST-MODIFIED:20130313T154822Z
UID:437-1370822400-1370908799@portlincolnchamber.com.au
SUMMARY:Queen\'s Birthday - Public Holiday
DESCRIPTION:
URL:https://portlincolnchamber.com.au/event/queens-birthday-public-holiday/
END:VEVENT
BEGIN:VEVENT
DTSTART;TZID=UTC:20130424T180000
DTEND;TZID=UTC:20130424T200000
DTSTAMP:20260425T124725
CREATED:20130325T222932Z
LAST-MODIFIED:20130325T222932Z
UID:465-1366826400-1366833600@portlincolnchamber.com.au
SUMMARY:Chamber of Commerce April Meeting
DESCRIPTION:Guest speaker Stephen Marlow from EP Alliance
URL:https://portlincolnchamber.com.au/event/chamber-of-commerce-april-meeting/
END:VEVENT
END:VCALENDAR