BEGIN:VCALENDAR
VERSION:2.0
PRODID:-//Port Lincoln Chamber of Commerce and Tourism - ECPv6.13.2.1//NONSGML v1.0//EN
CALSCALE:GREGORIAN
METHOD:PUBLISH
X-WR-CALNAME:Port Lincoln Chamber of Commerce and Tourism
X-ORIGINAL-URL:https://portlincolnchamber.com.au
X-WR-CALDESC:Events for Port Lincoln Chamber of Commerce and Tourism
REFRESH-INTERVAL;VALUE=DURATION:PT1H
X-Robots-Tag:noindex
X-PUBLISHED-TTL:PT1H
BEGIN:VTIMEZONE
TZID:Australia/Adelaide
BEGIN:STANDARD
TZOFFSETFROM:+1030
TZOFFSETTO:+0930
TZNAME:ACST
DTSTART:20160402T163000
END:STANDARD
BEGIN:DAYLIGHT
TZOFFSETFROM:+0930
TZOFFSETTO:+1030
TZNAME:ACDT
DTSTART:20161001T163000
END:DAYLIGHT
BEGIN:STANDARD
TZOFFSETFROM:+1030
TZOFFSETTO:+0930
TZNAME:ACST
DTSTART:20170401T163000
END:STANDARD
BEGIN:DAYLIGHT
TZOFFSETFROM:+0930
TZOFFSETTO:+1030
TZNAME:ACDT
DTSTART:20170930T163000
END:DAYLIGHT
BEGIN:STANDARD
TZOFFSETFROM:+1030
TZOFFSETTO:+0930
TZNAME:ACST
DTSTART:20180331T163000
END:STANDARD
BEGIN:DAYLIGHT
TZOFFSETFROM:+0930
TZOFFSETTO:+1030
TZNAME:ACDT
DTSTART:20181006T163000
END:DAYLIGHT
BEGIN:STANDARD
TZOFFSETFROM:+1030
TZOFFSETTO:+0930
TZNAME:ACST
DTSTART:20190406T163000
END:STANDARD
BEGIN:DAYLIGHT
TZOFFSETFROM:+0930
TZOFFSETTO:+1030
TZNAME:ACDT
DTSTART:20191005T163000
END:DAYLIGHT
END:VTIMEZONE
BEGIN:VEVENT
DTSTART;TZID=Australia/Adelaide:20190828T190000
DTEND;TZID=Australia/Adelaide:20190828T203000
DTSTAMP:20260425T103545
CREATED:20160606T093556Z
LAST-MODIFIED:20160606T093556Z
UID:3239-1567018800-1567024200@portlincolnchamber.com.au
SUMMARY:Port Lincoln Chamber of Commerce & Tourism General Meeting
DESCRIPTION:PLCC&T Committee meets every month to discuss the issues directly relating to the business community of Port Lincoln. Any interested business owners are welcome to join the committee at these meetings.
URL:https://portlincolnchamber.com.au/event/port-lincoln-chamber-of-commerce-tourism-general-meeting/
LOCATION:Port Lincoln Hotel\, Port Lincoln\, 5606\, Australia
CATEGORIES:Meetings
ATTACH;FMTTYPE=:
END:VEVENT
BEGIN:VEVENT
DTSTART;TZID=Australia/Adelaide:20190724T190000
DTEND;TZID=Australia/Adelaide:20190724T190000
DTSTAMP:20260425T103545
CREATED:20190625T151433Z
LAST-MODIFIED:20190625T151433Z
UID:2136-1563994800-1563994800@portlincolnchamber.com.au
SUMMARY:Port Lincoln Chamber of Commerce and Tourism AGM 2019
DESCRIPTION:Port Lincoln Chamber of Commerce and Tourism Inc. \nAGM 2019 \nNotice of Meeting \n  \nPort Lincoln Chamber of Commerce and Tourism Annual General Meeting 2019 \nDate: Wednesday  24th July 2019 \nVENUE: Port Lincoln Hotel Ballroom\, 1 Lincoln Highway\, Port Lincoln \nTIME: 7.00 pm \n  \nThe Port Lincoln Chamber of Commerce and Tourism Inc invites you to their 2019 Annual General Meeting. We are hoping to recruit new committee members that will contribute interests and skills to be part of our progressive team that serves the business community of Port Lincoln. \nThe AGM will be a short meeting to lock in the executive positions and structure for 2019-20.    \nThe Chamber is looking for energetic\, experienced people to be part of the team. You could be a business owner\, manager or key employee\, who wants to make a positive difference for the business community in Port Lincoln and regions. \nTo register your interest\, contact Secretary Marina Osman on info@portlincolnchamber.com.au or phone Jack Ritchie on 0458274444\, particularly if you would like to discuss nomination for an executive role. \n  \nALL WELCOME!
URL:https://portlincolnchamber.com.au/event/port-lincoln-chamber-of-commerce-and-tourism-agm-2019/
LOCATION:Port Lincoln Hotel\, Port Lincoln\, 5606\, Australia
END:VEVENT
BEGIN:VEVENT
DTSTART;TZID=Australia/Adelaide:20181124T180000
DTEND;TZID=Australia/Adelaide:20181124T230000
DTSTAMP:20260425T103545
CREATED:20181106T100737Z
LAST-MODIFIED:20181106T100737Z
UID:2035-1543082400-1543100400@portlincolnchamber.com.au
SUMMARY:Business Excellence Awards Gala Dinner
DESCRIPTION:
URL:https://portlincolnchamber.com.au/event/business-excellence-awards-gala-dinner/
LOCATION:Port Lincoln Hotel\, Port Lincoln\, 5606\, Australia
END:VEVENT
BEGIN:VEVENT
DTSTART;TZID=Australia/Adelaide:20171220T173000
DTEND;TZID=Australia/Adelaide:20171220T203000
DTSTAMP:20260425T103545
CREATED:20171218T110728Z
LAST-MODIFIED:20171218T110728Z
UID:1934-1513791000-1513801800@portlincolnchamber.com.au
SUMMARY:Port Lincoln Chamber of Commerce & Tourism + Women In Business Xmas Gathering
DESCRIPTION:The Port Lincoln Chamber of Commerce & Tourism along with Women In Business – Port Lincoln invite you to a night of Xmas cheer\, celebration and new beginnings. \nThis is a ticketed event at $40 per person and will include amazing food catered by The Rogue & Rascal + drinks by And The Rebel with thanks to our sponsors…. \nPort Lincoln Chamber of Commerce & Tourism\nWomen In Business – Port Lincoln\nMy EP – Shop Local Business Directory\nSevenseas Creative\nMagic 899\nIndigo Phoenix Coaching & Services\nBOSS Business Office Support Services \nWe look forward to seeing you all join us at Port Lincoln\’s newest bar with the most amazing views at And The Rebel on Wed 20th December for our final event of the year\, put it in your diary today!
URL:https://portlincolnchamber.com.au/event/port-lincoln-chamber-commerce-tourism-women-business-xmas-gathering/
LOCATION:And the Rebel\, 64 Tasman Terrace\, Port Lincoln\, SA\, 5606\, Australia
END:VEVENT
BEGIN:VEVENT
DTSTART;TZID=Australia/Adelaide:20170620T173000
DTEND;TZID=Australia/Adelaide:20170620T193000
DTSTAMP:20260425T103545
CREATED:20170529T165756Z
LAST-MODIFIED:20170529T165756Z
UID:1890-1497979800-1497987000@portlincolnchamber.com.au
SUMMARY:Networking Event
DESCRIPTION:Join us for fabulous local food\, quality South Australian wine and talk to people in industry\, who share your challenges.\nWalk away with new connections\, opportunities and business insights relevant to your region.\nAt this event you will be able to: \n– Build valuable professional networks \n– Learn from experts \n– Promote your products and services. \nSpecial Guest Speakers: \nAnthony Penney\, Business SA Executive Director Industry and Government Engagement \nAlex Flint\, EML Regional Development Manager \nJohn Chapman\, Small Business Commissioner. \nThe Regional Voice Workshop and Networking Event is made possible by the partnership between Business SA and the generosity of our major event partner EML and the Small Business Commissioner. \nPlease note that you must register to attend the networking event  \n\n\n\n\n\n\n\n\n 
URL:https://portlincolnchamber.com.au/event/networking-event/
LOCATION:Port Lincoln Hotel\, 1 Lincoln Highway\, Port Lincoln\, SA\, 5606\, Australia
CATEGORIES:Networking Event
END:VEVENT
BEGIN:VEVENT
DTSTART;TZID=Australia/Adelaide:20170322T080000
DTEND;TZID=Australia/Adelaide:20170322T160000
DTSTAMP:20260425T103545
CREATED:20160318T100241Z
LAST-MODIFIED:20160318T100241Z
UID:3233-1490169600-1490198400@portlincolnchamber.com.au
SUMMARY:Pacific Eden visit
DESCRIPTION:The Pacific Eden Cruise Ship will visit Port Lincoln today
URL:https://portlincolnchamber.com.au/event/pacific-eden-visit-3/
END:VEVENT
BEGIN:VEVENT
DTSTART;TZID=Australia/Adelaide:20170301T080000
DTEND;TZID=Australia/Adelaide:20170301T160000
DTSTAMP:20260425T103545
CREATED:20160318T095859Z
LAST-MODIFIED:20160318T095859Z
UID:3232-1488355200-1488384000@portlincolnchamber.com.au
SUMMARY:Astor visit
DESCRIPTION:The Astor Cruise Ship will visit Port Lincoln today
URL:https://portlincolnchamber.com.au/event/astor-visit/
END:VEVENT
BEGIN:VEVENT
DTSTART;TZID=Australia/Adelaide:20170204T080000
DTEND;TZID=Australia/Adelaide:20170204T160000
DTSTAMP:20260425T103545
CREATED:20160318T095801Z
LAST-MODIFIED:20160318T095801Z
UID:1391-1486195200-1486224000@portlincolnchamber.com.au
SUMMARY:Pacific Jewel visit
DESCRIPTION:The Pacific Jewel Cruise Ship will visit Port Lincoln today
URL:https://portlincolnchamber.com.au/event/pacific-jewel-visit-2/
END:VEVENT
BEGIN:VEVENT
DTSTART;TZID=Australia/Adelaide:20170125T170000
DTEND;TZID=Australia/Adelaide:20170129T170000
DTSTAMP:20260425T103545
CREATED:20160318T100643Z
LAST-MODIFIED:20160318T100643Z
UID:3234-1485363600-1485709200@portlincolnchamber.com.au
SUMMARY:Port Lincoln Tunarama Festival
DESCRIPTION:The Port Lincoln Tunarama Festival is on again!! \nSee website for more information \nTunarama Website
URL:https://portlincolnchamber.com.au/event/port-lincoln-tunarama-festival/
ORGANIZER;CN="Port Lincoln Tunarama Inc":MAILTO:info@tunarama.net
END:VEVENT
BEGIN:VEVENT
DTSTART;TZID=Australia/Adelaide:20161215T080000
DTEND;TZID=Australia/Adelaide:20161215T170000
DTSTAMP:20260425T103545
CREATED:20160318T095639Z
LAST-MODIFIED:20160318T095639Z
UID:3231-1481788800-1481821200@portlincolnchamber.com.au
SUMMARY:Sun Princess Visit
DESCRIPTION:The Sun Princess Cruise Ship will visit Port Lincoln today
URL:https://portlincolnchamber.com.au/event/sun-princess-visit/
END:VEVENT
BEGIN:VEVENT
DTSTART;TZID=Australia/Adelaide:20161209T171500
DTEND;TZID=Australia/Adelaide:20161209T190000
DTSTAMP:20260425T103545
CREATED:20161206T092534Z
LAST-MODIFIED:20161206T092534Z
UID:3254-1481303700-1481310000@portlincolnchamber.com.au
SUMMARY:Chamber Xmas drinks
DESCRIPTION:Chamber Xmas Function\nPort Lincoln Hotel – Flinders Room\n5:15pm Friday 9th December 2016\nWe are inviting you and a couple of your staff to attend our Xmas Function 2016. This year has been a challenging year in business and also within the Chamber.\nOur numbers are growing\, and the recent Business Excellence Awards Dinner showed an enthusiastic local business community eager to collaborate and build a better future in Port Lincoln.\nCome along and help us celebrate another year of achievements and opportunities.\nCatering will be available.The bar will provide refreshments for those who make it early. \nPlease register your attendance by following the link below. \nhttp://satickets.com.au/event/port-lincoln-chamber-of-commerce-tourism-christmas-event-3889
URL:https://portlincolnchamber.com.au/event/chamber-xmas-drinks/
LOCATION:Port Lincoln Hotel\, 1 LINCOLN HIGHWAY\, PORT LINCOLN
CATEGORIES:Networking Event
END:VEVENT
BEGIN:VEVENT
DTSTART;TZID=Australia/Adelaide:20161205T080000
DTEND;TZID=Australia/Adelaide:20161205T170000
DTSTAMP:20260425T103545
CREATED:20160318T095526Z
LAST-MODIFIED:20160318T095526Z
UID:3230-1480924800-1480957200@portlincolnchamber.com.au
SUMMARY:Pacific Jewel visit
DESCRIPTION:The Pacific Jewel Cruise ship will visit Port Lincoln today
URL:https://portlincolnchamber.com.au/event/pacific-jewel-visit/
END:VEVENT
BEGIN:VEVENT
DTSTART;TZID=Australia/Adelaide:20161104T183000
DTEND;TZID=Australia/Adelaide:20161104T223000
DTSTAMP:20260425T103545
CREATED:20161024T144201Z
LAST-MODIFIED:20161024T144201Z
UID:3252-1478284200-1478298600@portlincolnchamber.com.au
SUMMARY:Beyond Bank Business Excellence Awards 2016
DESCRIPTION:Business Excellence Awards 2016 are to recognise and reward excellence in business in a number of categories over the past 12 months.
URL:https://portlincolnchamber.com.au/event/beyond-bank-business-excellence-awards-2016/
CATEGORIES:Business Awards
ATTACH;FMTTYPE=:
END:VEVENT
BEGIN:VEVENT
DTSTART;TZID=Australia/Adelaide:20161028T173000
DTEND;TZID=Australia/Adelaide:20161028T193000
DTSTAMP:20260425T103545
CREATED:20161024T234231Z
LAST-MODIFIED:20161024T234231Z
UID:3253-1477675800-1477683000@portlincolnchamber.com.au
SUMMARY:Networking Event Hosted by Luggage Plus
DESCRIPTION:This event will be hosted by: Ron from Luggage Plus\, 5 Lewis Street\, Port Lincoln SA 5606  \nJoin us for some  food and wine\, or a beer and talk to people in industry who share your challenges. Walk away with new connections\, opportunities and business insights relevant to your work.  \nTime: 5.15pm (for a 5.30pm start)  \nDate: Friday 28th October\, 2016  \nPlease note that you should register to attend this event by emailing  info@portlincolnchamber.com.au \n Check out Luggage Plus\’ website for more information about their products   http://luggageplus.com.au/index.html 
URL:https://portlincolnchamber.com.au/event/networking-event-hosted-luggage-plus/
END:VEVENT
BEGIN:VEVENT
DTSTART;TZID=Australia/Adelaide:20160930T170000
DTEND;TZID=Australia/Adelaide:20160930T170000
DTSTAMP:20260425T103545
CREATED:20160907T163918Z
LAST-MODIFIED:20160907T163918Z
UID:3246-1475254800-1475254800@portlincolnchamber.com.au
SUMMARY:Business Excellence Awards - Nominations close today
DESCRIPTION:Nominations for the Business Excellence Awards close today!
URL:https://portlincolnchamber.com.au/event/business-excellence-awards-nominations-close-today/
CATEGORIES:Business Awards
END:VEVENT
BEGIN:VEVENT
DTSTART;TZID=Australia/Adelaide:20160923T180000
DTEND;TZID=Australia/Adelaide:20160923T193000
DTSTAMP:20260425T103545
CREATED:20160907T160736Z
LAST-MODIFIED:20160907T160736Z
UID:1523-1474653600-1474659000@portlincolnchamber.com.au
SUMMARY:PLCC&T Networking Night
DESCRIPTION:The Port Lincoln Chamber of Commerce and Tourism along with the City of Port Lincoln invite all business owners and operators to a Networking Event with a  difference. \nJoin us at the Council Chambers for an opportunitty to hear from Council about how they are working together with local business community and take the opportunity to ask members of the council questions about issues that are currenlty impacting on their businesses. \nTake this opportunity to also meet and mingle with other business owners and enjoy a complimentary drink and nibbles. \nThis event will be sponsored by the City of Port Lincoln and is free to attend.
URL:https://portlincolnchamber.com.au/event/plcct-networking-night/
LOCATION:Port Lincoln Council Chambers\, Tasman Terrace\, Port lincoln
CATEGORIES:Networking Event
END:VEVENT
BEGIN:VEVENT
DTSTART;TZID=Australia/Adelaide:20160914T180000
DTEND;TZID=Australia/Adelaide:20160914T200000
DTSTAMP:20260425T103545
CREATED:20160907T112024Z
LAST-MODIFIED:20160907T112024Z
UID:3245-1473876000-1473883200@portlincolnchamber.com.au
SUMMARY:Community Education Seminar
DESCRIPTION:Breaking down depression and building resilience is a workshop which should be of interest to all community members. \nSA Health with support of the PLCC are garnering support for the development of a Suicide Prevention Community Network in Port Lincoln. \nIf you would like to hear more about this network then come along to the seminar. \nWhen: Wednesday 14th September 6.00pm to 8.00pm \nWhere: Port Lincoln Hotel \nRSVP: jcooper@countrysaphn.com.au
URL:https://portlincolnchamber.com.au/event/community-education-seminar/
CATEGORIES:Community Event
END:VEVENT
BEGIN:VEVENT
DTSTART;TZID=Australia/Adelaide:20160824T180000
DTEND;TZID=Australia/Adelaide:20160824T203000
DTSTAMP:20260425T103545
CREATED:20160801T122110Z
LAST-MODIFIED:20160801T122110Z
UID:3244-1472061600-1472070600@portlincolnchamber.com.au
SUMMARY:PLCC&T and Business SA \"Regional Voice\" event
DESCRIPTION:In today’s business environment you can’t do it alone! \nBusiness SA ‘Regional Voice’ events are the ideal way to build valuable professional networks\, learn from experts and promote your products and services at one of our complimentary events. \nBusiness SA recognises regional South Australia is doing it tough. We are committed to setting a clear policy agenda and lobbying governments on all levels on your behalf. This is to ensure\, as a business owner\, you have every possible chance of succeeding.  We know the ‘cavalry’ isn’t coming any time soon. Local businesses need to stick together and support each other – especially at this time. \nSo enjoy some fabulous local food\, quality SA wine and talk to people in industry who share your challenges. Walk away with new connections\, new opportunities\, new business insights and watch your business networks grow. \nIn support of regional South Australia\, these free events are open to all members and regional area stakeholders. These events are made possible by the generosity of our event partners. \nPlease note you must register to attend individual Regional Voice events.  To complete please click on the relevant event below. \n24th August 2016 – Pt Lincoln Networking Event and Pt Lincoln Mental Health Awareness and Management at Work Workshop
URL:https://portlincolnchamber.com.au/event/plcct-business-sa-regional-voice-event/
LOCATION:Port Lincoln Hotel\, 1 Lincoln Highway\, Port Lincoln\, SA\, 5606\, Australia
CATEGORIES:Business SA
END:VEVENT
BEGIN:VEVENT
DTSTART;TZID=Australia/Adelaide:20160810T060000
DTEND;TZID=Australia/Adelaide:20160810T210000
DTSTAMP:20260425T103545
CREATED:20160801T095544Z
LAST-MODIFIED:20160801T095544Z
UID:3241-1470808800-1470862800@portlincolnchamber.com.au
SUMMARY:Regional BizLink Seminar
DESCRIPTION:The Port Lincoln Chamber of Commerce & Tourism is pleased to support a unique opportunity to hear from and speak directly to Local\, State and Federal Government organisations in the areas of compliance\, business growth\, registrations and licenses\, safety and staff responsibilities and dispute resolution in Port Lincoln on Wednesday 10th August\, from 6.00pm to 9.00pm at the TAFE SA Campus Lecture Theatre.\nSpeakers include\n• Regional Development Australia \n• Environment Protection Authority \n• Department of State Development (Small Business) \n• Department of State Development (Regulation and Compliance) \n• SafeWork SA \n• Australian Securities and Investments Commission \n• Office of the Industry Advocate \n• Australian Taxation Office \n• Office of the Commissioner for Consumer and Business Services \n• AusIndustry Business Services \n• ReturntoWorkSA \nAll business owners and operators are invited to attend this Seminar. This is a FREE event but places are strictly limited so book early to avoid disappointment.\nBookings can be made by visiting http://www.sasbc.sa.gov.au/sasbc_events
URL:https://portlincolnchamber.com.au/event/regional-bizlink-seminar/
CATEGORIES:Seminars
END:VEVENT
BEGIN:VEVENT
DTSTART;TZID=Australia/Adelaide:20160809T080000
DTEND;TZID=Australia/Adelaide:20160811T170000
DTSTAMP:20260425T103545
CREATED:20160801T112633Z
LAST-MODIFIED:20160801T112633Z
UID:3243-1470729600-1470934800@portlincolnchamber.com.au
SUMMARY:EP Field Days 2016
DESCRIPTION:Eyre Peninsula Field Days 2016\nThe biennial EP Field Days held in Cleve is a huge event held in very high regard and brings exhibitors from all over Australia.\nDisplays include the latest machinery and technology in the agricultural industry as well as information and products directed to all aspects of rural living.  The general interest sections host a wide range of crafts\, gifts\, clothing\, fashion parades and cooking demonstrations. \nAugust 9th\, 10th and 11th 2016For more information visit eyrepeninsulafielddays.com.au
URL:https://portlincolnchamber.com.au/event/ep-field-days-2016/
END:VEVENT
BEGIN:VEVENT
DTSTART;TZID=Australia/Adelaide:20160805T110000
DTEND;TZID=Australia/Adelaide:20160805T170000
DTSTAMP:20260425T103545
CREATED:20160801T112257Z
LAST-MODIFIED:20160801T112257Z
UID:3242-1470394800-1470416400@portlincolnchamber.com.au
SUMMARY:Nuclear Fuel Cycle Royal Commission Meetings
DESCRIPTION:Every South Australian has the opportunity to learn more about the Nuclear Fuel Cycle by discovering the facts\, understanding the choices\, and providing their views on the Royal Commission\’s Report.\nThe state-wide consultation program will travel to over 100 South Australian communities to talk about the Royal Commission\’s report and gain feedback.  Feedback gathered through the consultation process will play a key role in informing the State Government\’s response to the Nuclear Fuel Cycle Royal Commission Report which will be delivered by the end of the year. You can drop in at any time for an informal \’face to face session\’.   \nMeeting times and dates for Port Lincoln: \nFriday 5th August Nautilus Theatre 11.00am to 5.00pm \nMonday 29th August Port Lincoln Aboriginal Community 11.00am to 5.00pm \n 
URL:https://portlincolnchamber.com.au/event/nuclear-fuel-cycle-royal-commission-meetings/
LOCATION:Nautilus Theatre
END:VEVENT
BEGIN:VEVENT
DTSTART;TZID=Australia/Adelaide:20160611T090000
DTEND;TZID=Australia/Adelaide:20160613T170000
DTSTAMP:20260425T103545
CREATED:20160520T142910Z
LAST-MODIFIED:20160520T142910Z
UID:3237-1465635600-1465837200@portlincolnchamber.com.au
SUMMARY:Mortlock Shield 2016
DESCRIPTION:On behalf of the Port Lincoln Chamber of Commerce & Tourism we welcome all visitors to Port Lincoln for this years Mortlock Shield. We hope you enjoy a great weekend here in Port Lincoln.   For more information about the Mortlock Shield \nplease visit www.mortlockshield.com.au
URL:https://portlincolnchamber.com.au/event/mortlock-shield/
CATEGORIES:Community Event
END:VEVENT
BEGIN:VEVENT
DTSTART;TZID=Australia/Adelaide:20160608T090000
DTEND;TZID=Australia/Adelaide:20160608T143000
DTSTAMP:20260425T103545
CREATED:20160520T134917Z
LAST-MODIFIED:20160520T134917Z
UID:3236-1465376400-1465396200@portlincolnchamber.com.au
SUMMARY:The power of thinking into results
DESCRIPTION:The power of thinking into results – how to multiply your personal effectiveness and make the Quantum Leap! \nTime is the most precious resource we have\, but we can not manage time. We can only manage activity. Discover how you can easily improve the results you are getting personally and professionally by thinking in a new and different way. You will discover how to close your knowing – doing gaps\, shift old paradigms and break through the terror barrier and enjoy a new level of success and fulfillment in all areas of your life. The key to freedom is thinking into results. \nOpen to all Women In Business Members and Non Members (see further details in the FAQ) – this event is just too good not to share. Feel free to invite a friend\, colleague or anyone you know that might be interested in learning the power of thinking into results and how to multiply your personal and professional effectiveness. \nKaren Book has kindly offered her time to host this event on behalf of Women In Business Port Lincoln enabling us to offer this at a heavily discounted rate. \nThis is a limited ticket event so book now to secure your seat today by clicking the link below… \nhttps://www.eventbrite.com.au/e/the-power-of-thinking-into-results-tickets-24395134504 \nFAQs\nThis event is being hosted by Women In Business Port Lincoln\, so who can actually attend? \nThis event is open not only to members of Women In Business (those who receive our regular communications via email\, social media and attend our monthly events) but to the broader community. We want to extend the invitation to friends and family of Women In Business members\, students\, employers\, employees\, co-workers\, farmers\, truck drivers\, multi-tasking stay at home mums\, executives\, CEO\’s\, Mayors and everyone in between. \nWhat will I get out the day? \nNo matter where we are at in life\, we can always be doing better! Are you ready to learn how to quickly and permanently close the gap between where you are and where you really want to be? Are you interested in setting the bar higher and seeing where you can actually go? This event will show you how you can multiply your effectiveness and results in any area of your business or personal life\, without working any harder. You\’ll be amazed at what you can do by changing the way you think about your goals\, habits and perspective on your day to day life. \nWhat is included in the ticket? \nAll day tea\, coffee and refreshments including lunch will be provided (but what you\’ll take home is of most value!) \nWhat do I need to bring? \nWe recommend you bring a journal and pen. There will be resources handed out throughout the day but you might wish to make extra notes. \nWhere can I contact the organiser with any questions? \nPlease email hello@womeninbusinesspl.com\nFeel free to vist Karen Book\’s website www.karenbrook.com.au to find out more about her and her passion for thinking into results. \nWill I need to present my ticket on arrival? \nYes\, you will need you to show evidence of your registration when you arrive either with a printed ticket or via electronic device.
URL:https://portlincolnchamber.com.au/event/the-power-of-thinking-into-results/
CATEGORIES:Seminars
END:VEVENT
BEGIN:VEVENT
DTSTART;TZID=Australia/Adelaide:20160607T173000
DTEND;TZID=Australia/Adelaide:20160607T183000
DTSTAMP:20260425T103545
CREATED:20160607T173025Z
LAST-MODIFIED:20160607T173025Z
UID:3240-1465320600-1465324200@portlincolnchamber.com.au
SUMMARY:Senate Community Forum Invitation
DESCRIPTION:
URL:https://portlincolnchamber.com.au/event/senate-community-forum-invitation/
LOCATION:Port Lincoln Hotel\, 1 Lincoln Highway\, Port Lincoln\, SA\, 5606\, Australia
CATEGORIES:Community Event
END:VEVENT
BEGIN:VEVENT
DTSTART;TZID=Australia/Adelaide:20160607T173000
DTEND;TZID=Australia/Adelaide:20160607T180000
DTSTAMP:20260425T103545
CREATED:20160605T184652Z
LAST-MODIFIED:20160605T184652Z
UID:3238-1465320600-1465322400@portlincolnchamber.com.au
SUMMARY:Senate Community Forum
DESCRIPTION:An opportunity for all business owners to meet with Liberal Senators exists this Tuesday 7th June at the Port Lincoln Hotel from 5.30pm to 6.30pm. All welcome. Please rsvp to mignon.selway@aph.gov.au
URL:https://portlincolnchamber.com.au/event/senate-community-forum/
CATEGORIES:Community Event
ATTACH;FMTTYPE=:
END:VEVENT
BEGIN:VEVENT
DTSTART;TZID=Australia/Adelaide:20160525T060000
DTEND;TZID=Australia/Adelaide:20160525T203000
DTSTAMP:20260425T103545
CREATED:20160520T140557Z
LAST-MODIFIED:20160520T140557Z
UID:1413-1464156000-1464208200@portlincolnchamber.com.au
SUMMARY:Port Lincoln Chamber of Commerce & Tourism General Committee Meeting
DESCRIPTION:Each month the PLCC&T committee meet to discuss matters related to the many facets of business in Port Lincoln. To gain an insight into the work of the Chamber we invite non-committee members to attend these meetings. Meetings are held every 4th Wednesday of each month at bnj Consultants Board Room\, upstairs at 12 Lewis Street\, Port Lincoln starting at 6.00pm.
URL:https://portlincolnchamber.com.au/event/port-lincoln-chamber-of-commerce-tourism-general-committee-meeting/
CATEGORIES:Meetings
ATTACH;FMTTYPE=:
END:VEVENT
BEGIN:VEVENT
DTSTART;TZID=Australia/Adelaide:20160504T183000
DTEND;TZID=Australia/Adelaide:20160504T193000
DTSTAMP:20260425T103545
CREATED:20160413T140036Z
LAST-MODIFIED:20160413T140036Z
UID:3235-1462386600-1462390200@portlincolnchamber.com.au
SUMMARY:Port Lincoln Chamber of Commerce & Tourism AGM 2016
DESCRIPTION:The Port Lincoln Chamber of Commerce and Tourism \ninvites all current members\, business owners and interested people to attend:\n2016 AGM\nWednesday 4th May. Please note that this is a revised date.\n6.15pm for a 6.30pm start\,\nLight supper will be provided
URL:https://portlincolnchamber.com.au/event/plcct-agm-2016/
CATEGORIES:Meetings
ATTACH;FMTTYPE=:
END:VEVENT
BEGIN:VEVENT
DTSTART;TZID=Australia/Adelaide:20160406T090000
DTEND;TZID=Australia/Adelaide:20160406T163000
DTSTAMP:20260425T103545
CREATED:20160224T160657Z
LAST-MODIFIED:20160224T160657Z
UID:3227-1459933200-1459960200@portlincolnchamber.com.au
SUMMARY:Free Return to Work Coordinator training
DESCRIPTION:ReturnToWorkSA is delivering training to provide participants an understanding of the functions\, roles and responsibilities of a return to work coordinator. .
URL:https://portlincolnchamber.com.au/event/free-return-work-coordinator-training/
LOCATION:Port Lincoln Hotel\, 1 Lincoln Highway\, Port Lincoln\, SA\, 5606\, Australia
CATEGORIES:Seminars
END:VEVENT
BEGIN:VEVENT
DTSTART;TZID=Australia/Adelaide:20160406T080000
DTEND;TZID=Australia/Adelaide:20160406T160000
DTSTAMP:20260425T103545
CREATED:20160318T095347Z
LAST-MODIFIED:20160318T095347Z
UID:3229-1459929600-1459958400@portlincolnchamber.com.au
SUMMARY:Pacific Eden Visit
DESCRIPTION:The Pacific Eden Cruise ship will visit Port Lincoln today
URL:https://portlincolnchamber.com.au/event/pacific-eden-visit-2/
END:VEVENT
BEGIN:VEVENT
DTSTART;TZID=Australia/Adelaide:20160323T080000
DTEND;TZID=Australia/Adelaide:20160323T160000
DTSTAMP:20260425T103545
CREATED:20160318T095218Z
LAST-MODIFIED:20160318T095218Z
UID:3228-1458720000-1458748800@portlincolnchamber.com.au
SUMMARY:Pacific Eden Visit
DESCRIPTION:The Pacific Eden cruise ship will visit Port Lincoln today
URL:https://portlincolnchamber.com.au/event/pacific-eden-visit/
END:VEVENT
END:VCALENDAR