BEGIN:VCALENDAR
VERSION:2.0
PRODID:-//Port Lincoln Chamber of Commerce and Tourism - ECPv6.13.2.1//NONSGML v1.0//EN
CALSCALE:GREGORIAN
METHOD:PUBLISH
X-WR-CALNAME:Port Lincoln Chamber of Commerce and Tourism
X-ORIGINAL-URL:https://portlincolnchamber.com.au
X-WR-CALDESC:Events for Port Lincoln Chamber of Commerce and Tourism
REFRESH-INTERVAL;VALUE=DURATION:PT1H
X-Robots-Tag:noindex
X-PUBLISHED-TTL:PT1H
BEGIN:VTIMEZONE
TZID:Australia/Adelaide
BEGIN:STANDARD
TZOFFSETFROM:+1030
TZOFFSETTO:+0930
TZNAME:ACST
DTSTART:20150404T163000
END:STANDARD
BEGIN:DAYLIGHT
TZOFFSETFROM:+0930
TZOFFSETTO:+1030
TZNAME:ACDT
DTSTART:20151003T163000
END:DAYLIGHT
BEGIN:STANDARD
TZOFFSETFROM:+1030
TZOFFSETTO:+0930
TZNAME:ACST
DTSTART:20160402T163000
END:STANDARD
BEGIN:DAYLIGHT
TZOFFSETFROM:+0930
TZOFFSETTO:+1030
TZNAME:ACDT
DTSTART:20161001T163000
END:DAYLIGHT
END:VTIMEZONE
BEGIN:VEVENT
DTSTART;TZID=Australia/Adelaide:20161104T183000
DTEND;TZID=Australia/Adelaide:20161104T223000
DTSTAMP:20260425T002704
CREATED:20161024T144201Z
LAST-MODIFIED:20161024T144201Z
UID:3252-1478284200-1478298600@portlincolnchamber.com.au
SUMMARY:Beyond Bank Business Excellence Awards 2016
DESCRIPTION:Business Excellence Awards 2016 are to recognise and reward excellence in business in a number of categories over the past 12 months.
URL:https://portlincolnchamber.com.au/event/beyond-bank-business-excellence-awards-2016/
CATEGORIES:Business Awards
ATTACH;FMTTYPE=:
END:VEVENT
BEGIN:VEVENT
DTSTART;TZID=Australia/Adelaide:20160930T170000
DTEND;TZID=Australia/Adelaide:20160930T170000
DTSTAMP:20260425T002705
CREATED:20160907T163918Z
LAST-MODIFIED:20160907T163918Z
UID:3246-1475254800-1475254800@portlincolnchamber.com.au
SUMMARY:Business Excellence Awards - Nominations close today
DESCRIPTION:Nominations for the Business Excellence Awards close today!
URL:https://portlincolnchamber.com.au/event/business-excellence-awards-nominations-close-today/
CATEGORIES:Business Awards
END:VEVENT
BEGIN:VEVENT
DTSTART;TZID=Australia/Adelaide:20151023T190000
DTEND;TZID=Australia/Adelaide:20151023T230000
DTSTAMP:20260425T002705
CREATED:20150809T125140Z
LAST-MODIFIED:20150809T125140Z
UID:3219-1445626800-1445641200@portlincolnchamber.com.au
SUMMARY:Beyond Bank Business Excellence Awards 2015
DESCRIPTION:  \n \n  \n  \nAwards will be presented at the Beyond Bank Business Excellence Awards Dinner on October 23 at Ravendale Sporting Complex. Tickets are available online from \nRegistration Link Here
URL:https://portlincolnchamber.com.au/event/beyond-bank-business-excellence-awards-2015/
CATEGORIES:Business Awards
END:VEVENT
END:VCALENDAR